BEGIN:VCALENDAR
VERSION:2.0
PRODID:-//Explore Downtown YYC - ECPv6.15.15//NONSGML v1.0//EN
CALSCALE:GREGORIAN
METHOD:PUBLISH
X-ORIGINAL-URL:https://calgarydt-seeker.paperleaftest.com
X-WR-CALDESC:Events for Explore Downtown YYC
REFRESH-INTERVAL;VALUE=DURATION:PT1H
X-Robots-Tag:noindex
X-PUBLISHED-TTL:PT1H
BEGIN:VTIMEZONE
TZID:America/Edmonton
BEGIN:DAYLIGHT
TZOFFSETFROM:-0700
TZOFFSETTO:-0600
TZNAME:MDT
DTSTART:20250309T090000
END:DAYLIGHT
BEGIN:STANDARD
TZOFFSETFROM:-0600
TZOFFSETTO:-0700
TZNAME:MST
DTSTART:20251102T080000
END:STANDARD
BEGIN:DAYLIGHT
TZOFFSETFROM:-0700
TZOFFSETTO:-0600
TZNAME:MDT
DTSTART:20260308T090000
END:DAYLIGHT
BEGIN:STANDARD
TZOFFSETFROM:-0600
TZOFFSETTO:-0700
TZNAME:MST
DTSTART:20261101T080000
END:STANDARD
BEGIN:DAYLIGHT
TZOFFSETFROM:-0700
TZOFFSETTO:-0600
TZNAME:MDT
DTSTART:20270314T090000
END:DAYLIGHT
BEGIN:STANDARD
TZOFFSETFROM:-0600
TZOFFSETTO:-0700
TZNAME:MST
DTSTART:20271107T080000
END:STANDARD
END:VTIMEZONE
BEGIN:VEVENT
DTSTART;TZID=America/Edmonton:20260601T193000
DTEND;TZID=America/Edmonton:20260630T235959
DTSTAMP:20260421T012312
CREATED:20260319T225845Z
LAST-MODIFIED:20260420T163539Z
UID:10003709-1780342200-1782863999@calgarydt-seeker.paperleaftest.com
SUMMARY:The Verdict
DESCRIPTION:One big case. One last shot at redemption.\n\nFrank Galvin is a washed-up alcoholic lawyer who is presiding over what should be an open and shut malpractice case. Suspecting a cover up\, he daringly refuses an out-of-court settlement and instead takes on the negligent doctors and the unforgiving and powerful Boston medical establishment. This is a day in court that is not to be missed.\n\nBased off the best-selling novel by Barry Reed that became a classic Sidney Lumet film starring Paul Newman\, this North American Premiere of a new theatrical adaptation of the classic courtroom drama is a day in court that is not to be missed.
URL:https://calgarydt-seeker.paperleaftest.com/event-calendar/the-verdict/2026-06-01/
LOCATION:Vertigo Theatre\, Suite #161\, Calgary\, Ab\, US
ATTACH;FMTTYPE=image/jpeg:https://calgarydt-seeker.paperleaftest.com/wp-content/uploads/2026/03/1b923d33-80fb-4ce9-bf00-541430b7444d-1400.jpg
END:VEVENT
BEGIN:VEVENT
DTSTART;TZID=America/Edmonton:20260602T193000
DTEND;TZID=America/Edmonton:20260701T235959
DTSTAMP:20260421T012312
CREATED:20260319T225845Z
LAST-MODIFIED:20260420T163539Z
UID:10003488-1780428600-1782950399@calgarydt-seeker.paperleaftest.com
SUMMARY:The Verdict
DESCRIPTION:One big case. One last shot at redemption.\n\nFrank Galvin is a washed-up alcoholic lawyer who is presiding over what should be an open and shut malpractice case. Suspecting a cover up\, he daringly refuses an out-of-court settlement and instead takes on the negligent doctors and the unforgiving and powerful Boston medical establishment. This is a day in court that is not to be missed.\n\nBased off the best-selling novel by Barry Reed that became a classic Sidney Lumet film starring Paul Newman\, this North American Premiere of a new theatrical adaptation of the classic courtroom drama is a day in court that is not to be missed.
URL:https://calgarydt-seeker.paperleaftest.com/event-calendar/the-verdict/2026-06-02/
LOCATION:Vertigo Theatre\, Suite #161\, Calgary\, Ab\, US
ATTACH;FMTTYPE=image/jpeg:https://calgarydt-seeker.paperleaftest.com/wp-content/uploads/2026/03/1b923d33-80fb-4ce9-bf00-541430b7444d-1400.jpg
END:VEVENT
BEGIN:VEVENT
DTSTART;TZID=America/Edmonton:20260603T193000
DTEND;TZID=America/Edmonton:20260702T235959
DTSTAMP:20260421T012312
CREATED:20260319T225845Z
LAST-MODIFIED:20260420T163539Z
UID:10003489-1780515000-1783036799@calgarydt-seeker.paperleaftest.com
SUMMARY:The Verdict
DESCRIPTION:One big case. One last shot at redemption.\n\nFrank Galvin is a washed-up alcoholic lawyer who is presiding over what should be an open and shut malpractice case. Suspecting a cover up\, he daringly refuses an out-of-court settlement and instead takes on the negligent doctors and the unforgiving and powerful Boston medical establishment. This is a day in court that is not to be missed.\n\nBased off the best-selling novel by Barry Reed that became a classic Sidney Lumet film starring Paul Newman\, this North American Premiere of a new theatrical adaptation of the classic courtroom drama is a day in court that is not to be missed.
URL:https://calgarydt-seeker.paperleaftest.com/event-calendar/the-verdict/2026-06-03/
LOCATION:Vertigo Theatre\, Suite #161\, Calgary\, Ab\, US
ATTACH;FMTTYPE=image/jpeg:https://calgarydt-seeker.paperleaftest.com/wp-content/uploads/2026/03/1b923d33-80fb-4ce9-bf00-541430b7444d-1400.jpg
END:VEVENT
BEGIN:VEVENT
DTSTART;TZID=America/Edmonton:20260604T193000
DTEND;TZID=America/Edmonton:20260703T235959
DTSTAMP:20260421T012312
CREATED:20260319T225845Z
LAST-MODIFIED:20260420T163539Z
UID:10003490-1780601400-1783123199@calgarydt-seeker.paperleaftest.com
SUMMARY:The Verdict
DESCRIPTION:One big case. One last shot at redemption.\n\nFrank Galvin is a washed-up alcoholic lawyer who is presiding over what should be an open and shut malpractice case. Suspecting a cover up\, he daringly refuses an out-of-court settlement and instead takes on the negligent doctors and the unforgiving and powerful Boston medical establishment. This is a day in court that is not to be missed.\n\nBased off the best-selling novel by Barry Reed that became a classic Sidney Lumet film starring Paul Newman\, this North American Premiere of a new theatrical adaptation of the classic courtroom drama is a day in court that is not to be missed.
URL:https://calgarydt-seeker.paperleaftest.com/event-calendar/the-verdict/2026-06-04/
LOCATION:Vertigo Theatre\, Suite #161\, Calgary\, Ab\, US
ATTACH;FMTTYPE=image/jpeg:https://calgarydt-seeker.paperleaftest.com/wp-content/uploads/2026/03/1b923d33-80fb-4ce9-bf00-541430b7444d-1400.jpg
END:VEVENT
BEGIN:VEVENT
DTSTART;TZID=America/Edmonton:20260605T193000
DTEND;TZID=America/Edmonton:20260704T235959
DTSTAMP:20260421T012312
CREATED:20260319T225845Z
LAST-MODIFIED:20260420T163539Z
UID:10003491-1780687800-1783209599@calgarydt-seeker.paperleaftest.com
SUMMARY:The Verdict
DESCRIPTION:One big case. One last shot at redemption.\n\nFrank Galvin is a washed-up alcoholic lawyer who is presiding over what should be an open and shut malpractice case. Suspecting a cover up\, he daringly refuses an out-of-court settlement and instead takes on the negligent doctors and the unforgiving and powerful Boston medical establishment. This is a day in court that is not to be missed.\n\nBased off the best-selling novel by Barry Reed that became a classic Sidney Lumet film starring Paul Newman\, this North American Premiere of a new theatrical adaptation of the classic courtroom drama is a day in court that is not to be missed.
URL:https://calgarydt-seeker.paperleaftest.com/event-calendar/the-verdict/2026-06-05/
LOCATION:Vertigo Theatre\, Suite #161\, Calgary\, Ab\, US
ATTACH;FMTTYPE=image/jpeg:https://calgarydt-seeker.paperleaftest.com/wp-content/uploads/2026/03/1b923d33-80fb-4ce9-bf00-541430b7444d-1400.jpg
END:VEVENT
BEGIN:VEVENT
DTSTART;TZID=America/Edmonton:20260606T193000
DTEND;TZID=America/Edmonton:20260705T235959
DTSTAMP:20260421T012312
CREATED:20260319T225845Z
LAST-MODIFIED:20260420T163539Z
UID:10003492-1780774200-1783295999@calgarydt-seeker.paperleaftest.com
SUMMARY:The Verdict
DESCRIPTION:One big case. One last shot at redemption.\n\nFrank Galvin is a washed-up alcoholic lawyer who is presiding over what should be an open and shut malpractice case. Suspecting a cover up\, he daringly refuses an out-of-court settlement and instead takes on the negligent doctors and the unforgiving and powerful Boston medical establishment. This is a day in court that is not to be missed.\n\nBased off the best-selling novel by Barry Reed that became a classic Sidney Lumet film starring Paul Newman\, this North American Premiere of a new theatrical adaptation of the classic courtroom drama is a day in court that is not to be missed.
URL:https://calgarydt-seeker.paperleaftest.com/event-calendar/the-verdict/2026-06-06/
LOCATION:Vertigo Theatre\, Suite #161\, Calgary\, Ab\, US
ATTACH;FMTTYPE=image/jpeg:https://calgarydt-seeker.paperleaftest.com/wp-content/uploads/2026/03/1b923d33-80fb-4ce9-bf00-541430b7444d-1400.jpg
END:VEVENT
BEGIN:VEVENT
DTSTART;TZID=America/Edmonton:20260607T193000
DTEND;TZID=America/Edmonton:20260706T235959
DTSTAMP:20260421T012312
CREATED:20260319T225845Z
LAST-MODIFIED:20260420T163539Z
UID:10003493-1780860600-1783382399@calgarydt-seeker.paperleaftest.com
SUMMARY:The Verdict
DESCRIPTION:One big case. One last shot at redemption.\n\nFrank Galvin is a washed-up alcoholic lawyer who is presiding over what should be an open and shut malpractice case. Suspecting a cover up\, he daringly refuses an out-of-court settlement and instead takes on the negligent doctors and the unforgiving and powerful Boston medical establishment. This is a day in court that is not to be missed.\n\nBased off the best-selling novel by Barry Reed that became a classic Sidney Lumet film starring Paul Newman\, this North American Premiere of a new theatrical adaptation of the classic courtroom drama is a day in court that is not to be missed.
URL:https://calgarydt-seeker.paperleaftest.com/event-calendar/the-verdict/2026-06-07/
LOCATION:Vertigo Theatre\, Suite #161\, Calgary\, Ab\, US
ATTACH;FMTTYPE=image/jpeg:https://calgarydt-seeker.paperleaftest.com/wp-content/uploads/2026/03/1b923d33-80fb-4ce9-bf00-541430b7444d-1400.jpg
END:VEVENT
END:VCALENDAR