BEGIN:VCALENDAR
VERSION:2.0
PRODID:-//Explore Downtown YYC - ECPv6.15.15//NONSGML v1.0//EN
CALSCALE:GREGORIAN
METHOD:PUBLISH
X-ORIGINAL-URL:https://calgarydt-seeker.paperleaftest.com
X-WR-CALDESC:Events for Explore Downtown YYC
REFRESH-INTERVAL;VALUE=DURATION:PT1H
X-Robots-Tag:noindex
X-PUBLISHED-TTL:PT1H
BEGIN:VTIMEZONE
TZID:America/Edmonton
BEGIN:DAYLIGHT
TZOFFSETFROM:-0700
TZOFFSETTO:-0600
TZNAME:MDT
DTSTART:20250309T090000
END:DAYLIGHT
BEGIN:STANDARD
TZOFFSETFROM:-0600
TZOFFSETTO:-0700
TZNAME:MST
DTSTART:20251102T080000
END:STANDARD
BEGIN:DAYLIGHT
TZOFFSETFROM:-0700
TZOFFSETTO:-0600
TZNAME:MDT
DTSTART:20260308T090000
END:DAYLIGHT
BEGIN:STANDARD
TZOFFSETFROM:-0600
TZOFFSETTO:-0700
TZNAME:MST
DTSTART:20261101T080000
END:STANDARD
BEGIN:DAYLIGHT
TZOFFSETFROM:-0700
TZOFFSETTO:-0600
TZNAME:MDT
DTSTART:20270314T090000
END:DAYLIGHT
BEGIN:STANDARD
TZOFFSETFROM:-0600
TZOFFSETTO:-0700
TZNAME:MST
DTSTART:20271107T080000
END:STANDARD
END:VTIMEZONE
BEGIN:VEVENT
DTSTART;TZID=America/Edmonton:20260519T143000
DTEND;TZID=America/Edmonton:20260519T163000
DTSTAMP:20260424T084924
CREATED:20260423T222049Z
LAST-MODIFIED:20260423T223541Z
UID:10004151-1779201000-1779208200@calgarydt-seeker.paperleaftest.com
SUMMARY:Shakespeare Under the Bed
DESCRIPTION:he’s baaaaaaack—he’s funny\, he’s furious\, and he’s taking over. when a geneticist unleashes william shakespeare into the present day\, she’s forced to contain a bard who is louder\, queerer\, and more outraged than ever. as shakespeare commandeers a theatre\, falls in love with a drag queen\, and attempts to incite an artistic revolt\, what begins as a scientific leap-of-faith soon spirals into a coup that threatens a government takedown. \n18+. contemporary comedy.
URL:https://calgarydt-seeker.paperleaftest.com/event-calendar/_ohdgk9tq-shakespeare-under-the-bed/2026-05-19/
LOCATION:the theatre\, 101\, 215 14 av sw\, Calgary\, Ab
CATEGORIES:Theatre & performing arts
END:VEVENT
BEGIN:VEVENT
DTSTART;TZID=America/Edmonton:20260520T143000
DTEND;TZID=America/Edmonton:20260520T163000
DTSTAMP:20260424T084924
CREATED:20260423T222049Z
LAST-MODIFIED:20260423T223541Z
UID:10004152-1779287400-1779294600@calgarydt-seeker.paperleaftest.com
SUMMARY:Shakespeare Under the Bed
DESCRIPTION:he’s baaaaaaack—he’s funny\, he’s furious\, and he’s taking over. when a geneticist unleashes william shakespeare into the present day\, she’s forced to contain a bard who is louder\, queerer\, and more outraged than ever. as shakespeare commandeers a theatre\, falls in love with a drag queen\, and attempts to incite an artistic revolt\, what begins as a scientific leap-of-faith soon spirals into a coup that threatens a government takedown. \n18+. contemporary comedy.
URL:https://calgarydt-seeker.paperleaftest.com/event-calendar/_ohdgk9tq-shakespeare-under-the-bed/2026-05-20/
LOCATION:the theatre\, 101\, 215 14 av sw\, Calgary\, Ab
CATEGORIES:Theatre & performing arts
END:VEVENT
BEGIN:VEVENT
DTSTART;TZID=America/Edmonton:20260521T143000
DTEND;TZID=America/Edmonton:20260521T163000
DTSTAMP:20260424T084924
CREATED:20260423T222049Z
LAST-MODIFIED:20260423T223541Z
UID:10004153-1779373800-1779381000@calgarydt-seeker.paperleaftest.com
SUMMARY:Shakespeare Under the Bed
DESCRIPTION:he’s baaaaaaack—he’s funny\, he’s furious\, and he’s taking over. when a geneticist unleashes william shakespeare into the present day\, she’s forced to contain a bard who is louder\, queerer\, and more outraged than ever. as shakespeare commandeers a theatre\, falls in love with a drag queen\, and attempts to incite an artistic revolt\, what begins as a scientific leap-of-faith soon spirals into a coup that threatens a government takedown. \n18+. contemporary comedy.
URL:https://calgarydt-seeker.paperleaftest.com/event-calendar/_ohdgk9tq-shakespeare-under-the-bed/2026-05-21/
LOCATION:the theatre\, 101\, 215 14 av sw\, Calgary\, Ab
CATEGORIES:Theatre & performing arts
END:VEVENT
BEGIN:VEVENT
DTSTART;TZID=America/Edmonton:20260522T143000
DTEND;TZID=America/Edmonton:20260522T163000
DTSTAMP:20260424T084924
CREATED:20260423T222049Z
LAST-MODIFIED:20260423T223541Z
UID:10004154-1779460200-1779467400@calgarydt-seeker.paperleaftest.com
SUMMARY:Shakespeare Under the Bed
DESCRIPTION:he’s baaaaaaack—he’s funny\, he’s furious\, and he’s taking over. when a geneticist unleashes william shakespeare into the present day\, she’s forced to contain a bard who is louder\, queerer\, and more outraged than ever. as shakespeare commandeers a theatre\, falls in love with a drag queen\, and attempts to incite an artistic revolt\, what begins as a scientific leap-of-faith soon spirals into a coup that threatens a government takedown. \n18+. contemporary comedy.
URL:https://calgarydt-seeker.paperleaftest.com/event-calendar/_ohdgk9tq-shakespeare-under-the-bed/2026-05-22/
LOCATION:the theatre\, 101\, 215 14 av sw\, Calgary\, Ab
CATEGORIES:Theatre & performing arts
END:VEVENT
END:VCALENDAR