BEGIN:VCALENDAR
VERSION:2.0
PRODID:-//Explore Downtown YYC - ECPv6.15.15//NONSGML v1.0//EN
CALSCALE:GREGORIAN
METHOD:PUBLISH
X-ORIGINAL-URL:https://calgarydt-seeker.paperleaftest.com
X-WR-CALDESC:Events for Explore Downtown YYC
REFRESH-INTERVAL;VALUE=DURATION:PT1H
X-Robots-Tag:noindex
X-PUBLISHED-TTL:PT1H
BEGIN:VTIMEZONE
TZID:America/Denver
BEGIN:DAYLIGHT
TZOFFSETFROM:-0700
TZOFFSETTO:-0600
TZNAME:MDT
DTSTART:20250309T090000
END:DAYLIGHT
BEGIN:STANDARD
TZOFFSETFROM:-0600
TZOFFSETTO:-0700
TZNAME:MST
DTSTART:20251102T080000
END:STANDARD
BEGIN:DAYLIGHT
TZOFFSETFROM:-0700
TZOFFSETTO:-0600
TZNAME:MDT
DTSTART:20260308T090000
END:DAYLIGHT
BEGIN:STANDARD
TZOFFSETFROM:-0600
TZOFFSETTO:-0700
TZNAME:MST
DTSTART:20261101T080000
END:STANDARD
BEGIN:DAYLIGHT
TZOFFSETFROM:-0700
TZOFFSETTO:-0600
TZNAME:MDT
DTSTART:20270314T090000
END:DAYLIGHT
BEGIN:STANDARD
TZOFFSETFROM:-0600
TZOFFSETTO:-0700
TZNAME:MST
DTSTART:20271107T080000
END:STANDARD
END:VTIMEZONE
BEGIN:VEVENT
DTSTART;TZID=America/Denver:20260509T173000
DTEND;TZID=America/Denver:20260509T213000
DTSTAMP:20260424T032214
CREATED:20260423T222207Z
LAST-MODIFIED:20260423T223600Z
UID:10004307-1778347800-1778362200@calgarydt-seeker.paperleaftest.com
SUMMARY:Mother’s Day special concert
DESCRIPTION:Celebra a mamá con buena música y vibes en La Bodeguita Stereo junto a Oscar Lopez. ¡No te lo pierdas!\n\nMothers Day Special at La Bodeguita Stereo\n\nCelebrate Mother’s Day in style with an unforgettable live performance by multi-Juno award-winning Oscar Lopez! Join us for an in-person event filled with great vibes\, good music\, and plenty of fun. It’s the perfect way to treat mom and make some amazing memories. Don’t miss out on this special day at La Bodeguita Stereo!\n\nBased on the best-selling novel by Barry Reed that became a classic Sidney Lumet film starring Paul Newman\, this North American Premiere of a new theatrical adaptation of the classic courtroom drama is a day in court that is not to be missed.
URL:https://calgarydt-seeker.paperleaftest.com/event-calendar/bmdy0habg-mothers-day-special-concert/
LOCATION:La Bodeguita Stereo\, 6439 2 St SE\, Calgary\, T2H 1J5
CATEGORIES:Music & concerts
ATTACH;FMTTYPE=image/jpeg:https://calgarydt-seeker.paperleaftest.com/wp-content/uploads/2026/04/442b132c-b60a-4540-9de8-14232932f760-1400-2.jpg
END:VEVENT
END:VCALENDAR