BEGIN:VCALENDAR
VERSION:2.0
PRODID:-//Explore Downtown YYC - ECPv6.15.15//NONSGML v1.0//EN
CALSCALE:GREGORIAN
METHOD:PUBLISH
X-ORIGINAL-URL:https://calgarydt-seeker.paperleaftest.com
X-WR-CALDESC:Events for Explore Downtown YYC
REFRESH-INTERVAL;VALUE=DURATION:PT1H
X-Robots-Tag:noindex
X-PUBLISHED-TTL:PT1H
BEGIN:VTIMEZONE
TZID:America/Edmonton
BEGIN:DAYLIGHT
TZOFFSETFROM:-0700
TZOFFSETTO:-0600
TZNAME:MDT
DTSTART:20250309T090000
END:DAYLIGHT
BEGIN:STANDARD
TZOFFSETFROM:-0600
TZOFFSETTO:-0700
TZNAME:MST
DTSTART:20251102T080000
END:STANDARD
BEGIN:DAYLIGHT
TZOFFSETFROM:-0700
TZOFFSETTO:-0600
TZNAME:MDT
DTSTART:20260308T090000
END:DAYLIGHT
BEGIN:STANDARD
TZOFFSETFROM:-0600
TZOFFSETTO:-0700
TZNAME:MST
DTSTART:20261101T080000
END:STANDARD
BEGIN:DAYLIGHT
TZOFFSETFROM:-0700
TZOFFSETTO:-0600
TZNAME:MDT
DTSTART:20270314T090000
END:DAYLIGHT
BEGIN:STANDARD
TZOFFSETFROM:-0600
TZOFFSETTO:-0700
TZNAME:MST
DTSTART:20271107T080000
END:STANDARD
END:VTIMEZONE
BEGIN:VEVENT
DTSTART;TZID=America/Edmonton:20260419T140000
DTEND;TZID=America/Edmonton:20260420T235959
DTSTAMP:20260422T115041
CREATED:20260319T225752Z
LAST-MODIFIED:20260402T191807Z
UID:10002847-1776607200-1776729599@calgarydt-seeker.paperleaftest.com
SUMMARY:Heather Lynch: Penguins of Antarctica
DESCRIPTION:Antarctica’s name alone conjures imagery of the harshest environment on Earth\, but it is more than its monochromatic colour scheme of snow and ice. Meet the many species of penguins that waddle and swim through the freezing water\, along with an abundance of other life\, on a journey south with quantitative ecologist Heather Lynch. National Geographic Explorer Dr. Heather Lynch is dedicated to understanding the population dynamics of Antarctic wildlife\, with a particular focus on Antarctic penguins. She has more than a decade of field experience on the continent. She is an Associate Professor at Stony Brook University with a joint appointment in the Department of Ecology & Evolution and the Institute for Advanced Computational Science. Dive into the icy waters as multi-award-winning Heather Lynch shares her experience and insights on the frozen continent and the fascinating creatures who live there as part of Werklund Centre’s National Geographic Live series\, live at the Jack Singer Concert Hall. \nASL Interpretation at National Geographic Live\nWerklund Centre is proud to provide an ASL Interpreter at all presentations of National Geographic Live. The interpreter is located toward the left side of the stage when viewing from your seat. For ideal seating\, choose Orchestra or Mezzanine level seating.  \nShould you have any questions or need assistance\, please email boxoffice@werklundcentre.ca
URL:https://calgarydt-seeker.paperleaftest.com/event-calendar/heather-lynch-penguins-of-antarctica/
LOCATION:Jack Singer Concert Hall\, Werklund Centre\, Calgary\, Ab\, T2G 0K9
ATTACH;FMTTYPE=image/webp:https://calgarydt-seeker.paperleaftest.com/wp-content/uploads/2026/03/a60435a0-7bea-4a75-b990-5e35dba72680-1400.webp
END:VEVENT
END:VCALENDAR