BEGIN:VCALENDAR
VERSION:2.0
PRODID:-//Explore Downtown YYC - ECPv6.15.15//NONSGML v1.0//EN
CALSCALE:GREGORIAN
METHOD:PUBLISH
X-WR-CALNAME:Explore Downtown YYC
X-ORIGINAL-URL:https://calgarydt-seeker.paperleaftest.com
X-WR-CALDESC:Events for Explore Downtown YYC
REFRESH-INTERVAL;VALUE=DURATION:PT1H
X-Robots-Tag:noindex
X-PUBLISHED-TTL:PT1H
BEGIN:VTIMEZONE
TZID:America/Edmonton
BEGIN:DAYLIGHT
TZOFFSETFROM:-0700
TZOFFSETTO:-0600
TZNAME:MDT
DTSTART:20250309T090000
END:DAYLIGHT
BEGIN:STANDARD
TZOFFSETFROM:-0600
TZOFFSETTO:-0700
TZNAME:MST
DTSTART:20251102T080000
END:STANDARD
BEGIN:DAYLIGHT
TZOFFSETFROM:-0700
TZOFFSETTO:-0600
TZNAME:MDT
DTSTART:20260308T090000
END:DAYLIGHT
BEGIN:STANDARD
TZOFFSETFROM:-0600
TZOFFSETTO:-0700
TZNAME:MST
DTSTART:20261101T080000
END:STANDARD
BEGIN:DAYLIGHT
TZOFFSETFROM:-0700
TZOFFSETTO:-0600
TZNAME:MDT
DTSTART:20270314T090000
END:DAYLIGHT
BEGIN:STANDARD
TZOFFSETFROM:-0600
TZOFFSETTO:-0700
TZNAME:MST
DTSTART:20271107T080000
END:STANDARD
END:VTIMEZONE
BEGIN:VTIMEZONE
TZID:America/Denver
BEGIN:DAYLIGHT
TZOFFSETFROM:-0700
TZOFFSETTO:-0600
TZNAME:MDT
DTSTART:20250309T090000
END:DAYLIGHT
BEGIN:STANDARD
TZOFFSETFROM:-0600
TZOFFSETTO:-0700
TZNAME:MST
DTSTART:20251102T080000
END:STANDARD
BEGIN:DAYLIGHT
TZOFFSETFROM:-0700
TZOFFSETTO:-0600
TZNAME:MDT
DTSTART:20260308T090000
END:DAYLIGHT
BEGIN:STANDARD
TZOFFSETFROM:-0600
TZOFFSETTO:-0700
TZNAME:MST
DTSTART:20261101T080000
END:STANDARD
BEGIN:DAYLIGHT
TZOFFSETFROM:-0700
TZOFFSETTO:-0600
TZNAME:MDT
DTSTART:20270314T090000
END:DAYLIGHT
BEGIN:STANDARD
TZOFFSETFROM:-0600
TZOFFSETTO:-0700
TZNAME:MST
DTSTART:20271107T080000
END:STANDARD
END:VTIMEZONE
BEGIN:VEVENT
DTSTART;VALUE=DATE:20260423
DTEND;VALUE=DATE:20260424
DTSTAMP:20260423T062132
CREATED:20260402T191749Z
LAST-MODIFIED:20260420T163526Z
UID:10003387-1776958200-1776967200@calgarydt-seeker.paperleaftest.com
SUMMARY:Monthly free tutoring!
DESCRIPTION:Need help with homework? Our free drop-in tutoring program downtown is for junior high and high school students. RSVP your spot or come in when you can. Our tutors walk around and help with English\, math\, and science\, whether you have one small question or a lot to work on. It’s a relaxed\, friendly place to get help\, learn more\, and feel better about school. Walk ins welcome. Email goodneighbouryyc@gmail.com for more information.
URL:https://calgarydt-seeker.paperleaftest.com/event-calendar/new-event-for-testing-fun-tea-party-2026/2026-04-23/
LOCATION:Esker Foundation\, 1011 9 Ave SE 4th floor\, Calgary\, T2G 0H7
ATTACH;FMTTYPE=image/jpeg:https://calgarydt-seeker.paperleaftest.com/wp-content/uploads/2026/04/a109e6e0-0453-4584-947e-16326d8ff66d-1400.jpg
ORGANIZER;CN="Good Neighbour YYC":MAILTO:goodneighbouryyc@gmail.com
END:VEVENT
BEGIN:VEVENT
DTSTART;TZID=America/Edmonton:20260423T100000
DTEND;TZID=America/Edmonton:20260423T143000
DTSTAMP:20260423T062132
CREATED:20260319T225800Z
LAST-MODIFIED:20260420T163527Z
UID:10002852-1776938400-1776954600@calgarydt-seeker.paperleaftest.com
SUMMARY:Indigenous Allyship Professional Development Workshop
DESCRIPTION:This registration is for our public professional development sessions. If you’re looking to book a private session for a large group\, click here. \nWhen: April 23\, June 11\, Sept. 17 & Nov. 19\nCost: $95 a person\nTime: 10 am – 2:30 pm\nWhere:750 9th Ave SE \nAny professional working in Calgary will benefit from a deeper understanding of Indigenous cultures\, and the impacts of historical events that shaped today’s people and culture. \nThis public offering of our Indigenous Allyship Professional Development Workshop is ideal for small groups or individuals interested in fostering a more respectful and inclusive work environment. \nThe Indigenous Allyship Professional Development Workshop includes:\n– an engaging session on how to give a meaningful land acknowledgment\n– a guided walking tour of the land stopping at key landmarks and discussing critical perspectives on Indigenous and colonial histories\n– a storytelling session and Q&A with an Indigenous Elder/Knowledge Keeper \nGain valuable insight and perspective on contemporary Indigenous relations to further your professional and personal journey to reconciliation. \nHear from Indigenous Voices\nThis workshop was developed with Otsskoipiiks’aakii Paula Smith\, a Blackfoot Knowledge Keeper from Piikani Nation. In the afternoon\, Paula will lead a storytelling session and discussion alongside Minipoka Peter Weasel Moccasin or another Elder from Treaty 7. This session offers valuable insight and perspective on contemporary Indigenous relations. Equip yourself with the knowledge and tools to foster a respectful\, inclusive environment that honours Indigenous traditions and experiences. \nBe sure to pack a lunch! The workshop runs four hours\, including a 30min lunch break. Food will not be provided so please pack a lunch or plan to grab food from a nearby business. Unfortunately\, we do not have microwaves or a refrigerator available to use.
URL:https://calgarydt-seeker.paperleaftest.com/event-calendar/indigenous-allyship-professional-development-workshop/
LOCATION:The Confluence Historic Site & Parkland\, 750 9 Avenue Southeast\, Calgary\, Ab\, T2G 5E1
ATTACH;FMTTYPE=image/jpeg:https://calgarydt-seeker.paperleaftest.com/wp-content/uploads/2026/03/07f99de7-c29d-4caf-87c3-4b07abf17d68-1400.jpg
END:VEVENT
BEGIN:VEVENT
DTSTART;TZID=America/Edmonton:20260422T183000
DTEND;TZID=America/Edmonton:20260422T203000
DTSTAMP:20260423T062132
CREATED:20260319T225758Z
LAST-MODIFIED:20260420T163527Z
UID:10002851-1776882600-1776889800@calgarydt-seeker.paperleaftest.com
SUMMARY:Classics & Crafts: The Grand Budapest Hotel (2014)
DESCRIPTION:Fuel your creativity with movies on the big screen at Classics and Crafts! Bring your current craft project and join us for a nostalgic trip down memory lane with beloved classic films in the Burnswest Theatre. \nMeet fellow makers\, enjoy the cinematic vibes and tackle your work-in-progress with us! Whether you’re a die-hard movie fan or are just looking for a place to hunker down and get your creative juices flowing\, this is the perfect event for crafters and cinephiles alike. Craft\, connect\, and catch a classic\, because you deserve a great movie night. \nSupplies are not provided\, so please remember to bring all supplies with you to the screening. \nTickets include a small bag of popcorn\, movie screening\, and after-hours admission to The Confluence Cultural Centre. Additional snacks and drinks will be available for purchase.
URL:https://calgarydt-seeker.paperleaftest.com/event-calendar/classics-crafts-the-grand-budapest-hotel-2014/
LOCATION:The Confluence Historic Site & Parkland\, 750 9th Ave SE\, Calgary\, Ab\, T2G 5E1
ATTACH;FMTTYPE=image/jpeg:https://calgarydt-seeker.paperleaftest.com/wp-content/uploads/2026/03/87af3ac9-1c2e-406a-af02-0461fabc6556-1400.jpg
END:VEVENT
BEGIN:VEVENT
DTSTART;TZID=America/Denver:20260421T170000
DTEND;TZID=America/Denver:20260421T235959
DTSTAMP:20260423T062132
CREATED:20260319T225538Z
LAST-MODIFIED:20260420T163525Z
UID:10002980-1776790800-1776815999@calgarydt-seeker.paperleaftest.com
SUMMARY:Calgary Roughnecks Flex Club
DESCRIPTION:We’re changing the game when it comes to flexible ticket packages! With one of the first multi-team products in professional sport\, the FlexClub offers fans the opportunity to experience the WHL\, AHL\, and NLL with ease. With FlexClub\, you can pick ANY team\, ANY game\, ANY seat\, in ANY combination that works for you. With three teams to pick from\, and 78 games on the calendar\, there’s a WIN for everyone!
URL:https://calgarydt-seeker.paperleaftest.com/event-calendar/calgary-roughnecks-flex-club/2026-04-21/
LOCATION:Scotiabank Saddledome\, 555 Saddledome Rise SE\, Calgary\, Alberta\, T2G 2W1
ATTACH;FMTTYPE=image/jpeg:https://calgarydt-seeker.paperleaftest.com/wp-content/uploads/2026/03/2aca2a1c-a3f2-498c-beac-0f54f3d58d82-1400.jpg
END:VEVENT
BEGIN:VEVENT
DTSTART;VALUE=DATE:20260420
DTEND;VALUE=DATE:20260421
DTSTAMP:20260423T062132
CREATED:20260402T191749Z
LAST-MODIFIED:20260420T163526Z
UID:10003386-1776699000-1776708000@calgarydt-seeker.paperleaftest.com
SUMMARY:Monthly free tutoring!
DESCRIPTION:Need help with homework? Our free drop-in tutoring program downtown is for junior high and high school students. RSVP your spot or come in when you can. Our tutors walk around and help with English\, math\, and science\, whether you have one small question or a lot to work on. It’s a relaxed\, friendly place to get help\, learn more\, and feel better about school. Walk ins welcome. Email goodneighbouryyc@gmail.com for more information.
URL:https://calgarydt-seeker.paperleaftest.com/event-calendar/new-event-for-testing-fun-tea-party-2026/2026-04-20/
LOCATION:Esker Foundation\, 1011 9 Ave SE 4th floor\, Calgary\, T2G 0H7
ATTACH;FMTTYPE=image/jpeg:https://calgarydt-seeker.paperleaftest.com/wp-content/uploads/2026/04/a109e6e0-0453-4584-947e-16326d8ff66d-1400.jpg
ORGANIZER;CN="Good Neighbour YYC":MAILTO:goodneighbouryyc@gmail.com
END:VEVENT
BEGIN:VEVENT
DTSTART;TZID=America/Edmonton:20260417T193000
DTEND;TZID=America/Edmonton:20260417T210000
DTSTAMP:20260423T062132
CREATED:20260319T225555Z
LAST-MODIFIED:20260420T163525Z
UID:10003336-1776454200-1776459600@calgarydt-seeker.paperleaftest.com
SUMMARY:To Be or Not To Be Determined
DESCRIPTION:One night only\, never to be seen before or again\, a new play as Shakespeare would have intended had he lived for another 400 years. Princes and kings\, queens and jesters\, grave diggers and long lost twins—join this talented cast who have been speaking in iambic pentameter for at least a fortnight as they discover in the moment if they’re in a tragedy or a romance.
URL:https://calgarydt-seeker.paperleaftest.com/event-calendar/to-be-or-not-to-be-determined/2026-04-17/
LOCATION:The Kinkonauts\, 834 11 Ave SW\, Calgary\, T2R 0E5
ATTACH;FMTTYPE=image/jpeg:https://calgarydt-seeker.paperleaftest.com/wp-content/uploads/2026/03/7e6a01a0-97f9-4be8-94ee-aaa79803486e-1400.jpg
END:VEVENT
BEGIN:VEVENT
DTSTART;TZID=America/Denver:20260417T170000
DTEND;TZID=America/Denver:20260417T235959
DTSTAMP:20260423T062132
CREATED:20260319T225538Z
LAST-MODIFIED:20260420T163525Z
UID:10002979-1776445200-1776470399@calgarydt-seeker.paperleaftest.com
SUMMARY:Calgary Roughnecks Flex Club
DESCRIPTION:We’re changing the game when it comes to flexible ticket packages! With one of the first multi-team products in professional sport\, the FlexClub offers fans the opportunity to experience the WHL\, AHL\, and NLL with ease. With FlexClub\, you can pick ANY team\, ANY game\, ANY seat\, in ANY combination that works for you. With three teams to pick from\, and 78 games on the calendar\, there’s a WIN for everyone!
URL:https://calgarydt-seeker.paperleaftest.com/event-calendar/calgary-roughnecks-flex-club/2026-04-17/
LOCATION:Scotiabank Saddledome\, 555 Saddledome Rise SE\, Calgary\, Alberta\, T2G 2W1
ATTACH;FMTTYPE=image/jpeg:https://calgarydt-seeker.paperleaftest.com/wp-content/uploads/2026/03/2aca2a1c-a3f2-498c-beac-0f54f3d58d82-1400.jpg
END:VEVENT
BEGIN:VEVENT
DTSTART;VALUE=DATE:20260416
DTEND;VALUE=DATE:20260417
DTSTAMP:20260423T062132
CREATED:20260402T191749Z
LAST-MODIFIED:20260420T163526Z
UID:10003385-1776353400-1776362400@calgarydt-seeker.paperleaftest.com
SUMMARY:Monthly free tutoring!
DESCRIPTION:Need help with homework? Our free drop-in tutoring program downtown is for junior high and high school students. RSVP your spot or come in when you can. Our tutors walk around and help with English\, math\, and science\, whether you have one small question or a lot to work on. It’s a relaxed\, friendly place to get help\, learn more\, and feel better about school. Walk ins welcome. Email goodneighbouryyc@gmail.com for more information.
URL:https://calgarydt-seeker.paperleaftest.com/event-calendar/new-event-for-testing-fun-tea-party-2026/2026-04-16/
LOCATION:Esker Foundation\, 1011 9 Ave SE 4th floor\, Calgary\, T2G 0H7
ATTACH;FMTTYPE=image/jpeg:https://calgarydt-seeker.paperleaftest.com/wp-content/uploads/2026/04/a109e6e0-0453-4584-947e-16326d8ff66d-1400.jpg
ORGANIZER;CN="Good Neighbour YYC":MAILTO:goodneighbouryyc@gmail.com
END:VEVENT
BEGIN:VEVENT
DTSTART;TZID=America/Denver:20260414T170000
DTEND;TZID=America/Denver:20260414T235959
DTSTAMP:20260423T062132
CREATED:20260319T225538Z
LAST-MODIFIED:20260420T163525Z
UID:10002978-1776186000-1776211199@calgarydt-seeker.paperleaftest.com
SUMMARY:Calgary Roughnecks Flex Club
DESCRIPTION:We’re changing the game when it comes to flexible ticket packages! With one of the first multi-team products in professional sport\, the FlexClub offers fans the opportunity to experience the WHL\, AHL\, and NLL with ease. With FlexClub\, you can pick ANY team\, ANY game\, ANY seat\, in ANY combination that works for you. With three teams to pick from\, and 78 games on the calendar\, there’s a WIN for everyone!
URL:https://calgarydt-seeker.paperleaftest.com/event-calendar/calgary-roughnecks-flex-club/2026-04-14/
LOCATION:Scotiabank Saddledome\, 555 Saddledome Rise SE\, Calgary\, Alberta\, T2G 2W1
ATTACH;FMTTYPE=image/jpeg:https://calgarydt-seeker.paperleaftest.com/wp-content/uploads/2026/03/2aca2a1c-a3f2-498c-beac-0f54f3d58d82-1400.jpg
END:VEVENT
BEGIN:VEVENT
DTSTART;VALUE=DATE:20260413
DTEND;VALUE=DATE:20260414
DTSTAMP:20260423T062132
CREATED:20260402T191749Z
LAST-MODIFIED:20260420T163526Z
UID:10003384-1776094200-1776103200@calgarydt-seeker.paperleaftest.com
SUMMARY:Monthly free tutoring!
DESCRIPTION:Need help with homework? Our free drop-in tutoring program downtown is for junior high and high school students. RSVP your spot or come in when you can. Our tutors walk around and help with English\, math\, and science\, whether you have one small question or a lot to work on. It’s a relaxed\, friendly place to get help\, learn more\, and feel better about school. Walk ins welcome. Email goodneighbouryyc@gmail.com for more information.
URL:https://calgarydt-seeker.paperleaftest.com/event-calendar/new-event-for-testing-fun-tea-party-2026/2026-04-13/
LOCATION:Esker Foundation\, 1011 9 Ave SE 4th floor\, Calgary\, T2G 0H7
ATTACH;FMTTYPE=image/jpeg:https://calgarydt-seeker.paperleaftest.com/wp-content/uploads/2026/04/a109e6e0-0453-4584-947e-16326d8ff66d-1400.jpg
ORGANIZER;CN="Good Neighbour YYC":MAILTO:goodneighbouryyc@gmail.com
END:VEVENT
BEGIN:VEVENT
DTSTART;TZID=America/Edmonton:20260412T110000
DTEND;TZID=America/Edmonton:20260510T133000
DTSTAMP:20260423T062132
CREATED:20260319T225655Z
LAST-MODIFIED:20260420T163526Z
UID:10002797-1775991600-1778419800@calgarydt-seeker.paperleaftest.com
SUMMARY:Clay & Rosé Sunday
DESCRIPTION:Sip rosé or a mocktail and handbuild cute & cheeky clay trinkets. Create\, connect\, and kick off your Sunday Funday  at Canopy Studios
URL:https://calgarydt-seeker.paperleaftest.com/event-calendar/clay-rose-sunday/
LOCATION:Canopy Studios\, 1723 9th St SW\, Calgary\, Ab\, T2T 3C1
ATTACH;FMTTYPE=image/jpeg:https://calgarydt-seeker.paperleaftest.com/wp-content/uploads/2026/03/51cd532a-11ed-491b-a3e2-afa35a9bbe89-1400-1.jpg
END:VEVENT
BEGIN:VEVENT
DTSTART;TZID=America/Edmonton:20260410T193000
DTEND;TZID=America/Edmonton:20260410T210000
DTSTAMP:20260423T062132
CREATED:20260319T225555Z
LAST-MODIFIED:20260420T163525Z
UID:10003335-1775849400-1775854800@calgarydt-seeker.paperleaftest.com
SUMMARY:To Be or Not To Be Determined
DESCRIPTION:One night only\, never to be seen before or again\, a new play as Shakespeare would have intended had he lived for another 400 years. Princes and kings\, queens and jesters\, grave diggers and long lost twins—join this talented cast who have been speaking in iambic pentameter for at least a fortnight as they discover in the moment if they’re in a tragedy or a romance.
URL:https://calgarydt-seeker.paperleaftest.com/event-calendar/to-be-or-not-to-be-determined/2026-04-10/
LOCATION:The Kinkonauts\, 834 11 Ave SW\, Calgary\, T2R 0E5
ATTACH;FMTTYPE=image/jpeg:https://calgarydt-seeker.paperleaftest.com/wp-content/uploads/2026/03/7e6a01a0-97f9-4be8-94ee-aaa79803486e-1400.jpg
END:VEVENT
BEGIN:VEVENT
DTSTART;TZID=America/Denver:20260410T170000
DTEND;TZID=America/Denver:20260410T235959
DTSTAMP:20260423T062132
CREATED:20260319T225538Z
LAST-MODIFIED:20260420T163525Z
UID:10002977-1775840400-1775865599@calgarydt-seeker.paperleaftest.com
SUMMARY:Calgary Roughnecks Flex Club
DESCRIPTION:We’re changing the game when it comes to flexible ticket packages! With one of the first multi-team products in professional sport\, the FlexClub offers fans the opportunity to experience the WHL\, AHL\, and NLL with ease. With FlexClub\, you can pick ANY team\, ANY game\, ANY seat\, in ANY combination that works for you. With three teams to pick from\, and 78 games on the calendar\, there’s a WIN for everyone!
URL:https://calgarydt-seeker.paperleaftest.com/event-calendar/calgary-roughnecks-flex-club/2026-04-10/
LOCATION:Scotiabank Saddledome\, 555 Saddledome Rise SE\, Calgary\, Alberta\, T2G 2W1
ATTACH;FMTTYPE=image/jpeg:https://calgarydt-seeker.paperleaftest.com/wp-content/uploads/2026/03/2aca2a1c-a3f2-498c-beac-0f54f3d58d82-1400.jpg
END:VEVENT
BEGIN:VEVENT
DTSTART;VALUE=DATE:20260409
DTEND;VALUE=DATE:20260410
DTSTAMP:20260423T062132
CREATED:20260402T191749Z
LAST-MODIFIED:20260420T163526Z
UID:10003383-1775748600-1775757600@calgarydt-seeker.paperleaftest.com
SUMMARY:Monthly free tutoring!
DESCRIPTION:Need help with homework? Our free drop-in tutoring program downtown is for junior high and high school students. RSVP your spot or come in when you can. Our tutors walk around and help with English\, math\, and science\, whether you have one small question or a lot to work on. It’s a relaxed\, friendly place to get help\, learn more\, and feel better about school. Walk ins welcome. Email goodneighbouryyc@gmail.com for more information.
URL:https://calgarydt-seeker.paperleaftest.com/event-calendar/new-event-for-testing-fun-tea-party-2026/2026-04-09/
LOCATION:Esker Foundation\, 1011 9 Ave SE 4th floor\, Calgary\, T2G 0H7
ATTACH;FMTTYPE=image/jpeg:https://calgarydt-seeker.paperleaftest.com/wp-content/uploads/2026/04/a109e6e0-0453-4584-947e-16326d8ff66d-1400.jpg
ORGANIZER;CN="Good Neighbour YYC":MAILTO:goodneighbouryyc@gmail.com
END:VEVENT
BEGIN:VEVENT
DTSTART;TZID=America/Denver:20260407T170000
DTEND;TZID=America/Denver:20260407T235959
DTSTAMP:20260423T062132
CREATED:20260319T225538Z
LAST-MODIFIED:20260420T163525Z
UID:10002976-1775581200-1775606399@calgarydt-seeker.paperleaftest.com
SUMMARY:Calgary Roughnecks Flex Club
DESCRIPTION:We’re changing the game when it comes to flexible ticket packages! With one of the first multi-team products in professional sport\, the FlexClub offers fans the opportunity to experience the WHL\, AHL\, and NLL with ease. With FlexClub\, you can pick ANY team\, ANY game\, ANY seat\, in ANY combination that works for you. With three teams to pick from\, and 78 games on the calendar\, there’s a WIN for everyone!
URL:https://calgarydt-seeker.paperleaftest.com/event-calendar/calgary-roughnecks-flex-club/2026-04-07/
LOCATION:Scotiabank Saddledome\, 555 Saddledome Rise SE\, Calgary\, Alberta\, T2G 2W1
ATTACH;FMTTYPE=image/jpeg:https://calgarydt-seeker.paperleaftest.com/wp-content/uploads/2026/03/2aca2a1c-a3f2-498c-beac-0f54f3d58d82-1400.jpg
END:VEVENT
BEGIN:VEVENT
DTSTART;VALUE=DATE:20260406
DTEND;VALUE=DATE:20260407
DTSTAMP:20260423T062132
CREATED:20260402T191749Z
LAST-MODIFIED:20260420T163526Z
UID:10003382-1775489400-1775498400@calgarydt-seeker.paperleaftest.com
SUMMARY:Monthly free tutoring!
DESCRIPTION:Need help with homework? Our free drop-in tutoring program downtown is for junior high and high school students. RSVP your spot or come in when you can. Our tutors walk around and help with English\, math\, and science\, whether you have one small question or a lot to work on. It’s a relaxed\, friendly place to get help\, learn more\, and feel better about school. Walk ins welcome. Email goodneighbouryyc@gmail.com for more information.
URL:https://calgarydt-seeker.paperleaftest.com/event-calendar/new-event-for-testing-fun-tea-party-2026/2026-04-06/
LOCATION:Esker Foundation\, 1011 9 Ave SE 4th floor\, Calgary\, T2G 0H7
ATTACH;FMTTYPE=image/jpeg:https://calgarydt-seeker.paperleaftest.com/wp-content/uploads/2026/04/a109e6e0-0453-4584-947e-16326d8ff66d-1400.jpg
ORGANIZER;CN="Good Neighbour YYC":MAILTO:goodneighbouryyc@gmail.com
END:VEVENT
BEGIN:VEVENT
DTSTART;TZID=America/Edmonton:20260405T120000
DTEND;TZID=America/Edmonton:20260503T140000
DTSTAMP:20260423T062132
CREATED:20260319T225620Z
LAST-MODIFIED:20260420T163525Z
UID:10002777-1775390400-1777816800@calgarydt-seeker.paperleaftest.com
SUMMARY:Morning Glory Burlesque Brunch with  The Cab Co
DESCRIPTION:A sultry afternoon of Burlesque & Brunch to kick off your Sunday Funday! Join us on the first Sunday of every month!
URL:https://calgarydt-seeker.paperleaftest.com/event-calendar/morning-glory-burlesque-brunch-with-the-cab-co/
LOCATION:1413 9 Ave SE\, 1413 9 Avenue Southeast\, Calgary\, Ab\, T2G 0T4
ATTACH;FMTTYPE=image/jpeg:https://calgarydt-seeker.paperleaftest.com/wp-content/uploads/2026/03/88ec972e-40a8-4aa4-9df7-706d7b706f25-1400.jpg
END:VEVENT
BEGIN:VEVENT
DTSTART;TZID=America/Edmonton:20260403T193000
DTEND;TZID=America/Edmonton:20260403T210000
DTSTAMP:20260423T062132
CREATED:20260319T225555Z
LAST-MODIFIED:20260420T163525Z
UID:10002756-1775244600-1775250000@calgarydt-seeker.paperleaftest.com
SUMMARY:To Be or Not To Be Determined
DESCRIPTION:One night only\, never to be seen before or again\, a new play as Shakespeare would have intended had he lived for another 400 years. Princes and kings\, queens and jesters\, grave diggers and long lost twins—join this talented cast who have been speaking in iambic pentameter for at least a fortnight as they discover in the moment if they’re in a tragedy or a romance.
URL:https://calgarydt-seeker.paperleaftest.com/event-calendar/to-be-or-not-to-be-determined/2026-04-03/
LOCATION:The Kinkonauts\, 834 11 Ave SW\, Calgary\, T2R 0E5
ATTACH;FMTTYPE=image/jpeg:https://calgarydt-seeker.paperleaftest.com/wp-content/uploads/2026/03/7e6a01a0-97f9-4be8-94ee-aaa79803486e-1400.jpg
END:VEVENT
BEGIN:VEVENT
DTSTART;TZID=America/Denver:20260403T170000
DTEND;TZID=America/Denver:20260403T235959
DTSTAMP:20260423T062132
CREATED:20260319T225538Z
LAST-MODIFIED:20260420T163525Z
UID:10002975-1775235600-1775260799@calgarydt-seeker.paperleaftest.com
SUMMARY:Calgary Roughnecks Flex Club
DESCRIPTION:We’re changing the game when it comes to flexible ticket packages! With one of the first multi-team products in professional sport\, the FlexClub offers fans the opportunity to experience the WHL\, AHL\, and NLL with ease. With FlexClub\, you can pick ANY team\, ANY game\, ANY seat\, in ANY combination that works for you. With three teams to pick from\, and 78 games on the calendar\, there’s a WIN for everyone!
URL:https://calgarydt-seeker.paperleaftest.com/event-calendar/calgary-roughnecks-flex-club/2026-04-03/
LOCATION:Scotiabank Saddledome\, 555 Saddledome Rise SE\, Calgary\, Alberta\, T2G 2W1
ATTACH;FMTTYPE=image/jpeg:https://calgarydt-seeker.paperleaftest.com/wp-content/uploads/2026/03/2aca2a1c-a3f2-498c-beac-0f54f3d58d82-1400.jpg
END:VEVENT
BEGIN:VEVENT
DTSTART;TZID=America/Denver:20260331T170000
DTEND;TZID=America/Denver:20260331T235959
DTSTAMP:20260423T062132
CREATED:20260319T225538Z
LAST-MODIFIED:20260420T163525Z
UID:10002721-1774976400-1775001599@calgarydt-seeker.paperleaftest.com
SUMMARY:Calgary Roughnecks Flex Club
DESCRIPTION:We’re changing the game when it comes to flexible ticket packages! With one of the first multi-team products in professional sport\, the FlexClub offers fans the opportunity to experience the WHL\, AHL\, and NLL with ease. With FlexClub\, you can pick ANY team\, ANY game\, ANY seat\, in ANY combination that works for you. With three teams to pick from\, and 78 games on the calendar\, there’s a WIN for everyone!
URL:https://calgarydt-seeker.paperleaftest.com/event-calendar/calgary-roughnecks-flex-club/2026-03-31/
LOCATION:Scotiabank Saddledome\, 555 Saddledome Rise SE\, Calgary\, Alberta\, T2G 2W1
ATTACH;FMTTYPE=image/jpeg:https://calgarydt-seeker.paperleaftest.com/wp-content/uploads/2026/03/2aca2a1c-a3f2-498c-beac-0f54f3d58d82-1400.jpg
END:VEVENT
END:VCALENDAR