BEGIN:VCALENDAR
VERSION:2.0
PRODID:-//Explore Downtown YYC - ECPv6.15.15//NONSGML v1.0//EN
CALSCALE:GREGORIAN
METHOD:PUBLISH
X-ORIGINAL-URL:https://calgarydt-seeker.paperleaftest.com
X-WR-CALDESC:Events for Explore Downtown YYC
REFRESH-INTERVAL;VALUE=DURATION:PT1H
X-Robots-Tag:noindex
X-PUBLISHED-TTL:PT1H
BEGIN:VTIMEZONE
TZID:America/Edmonton
BEGIN:DAYLIGHT
TZOFFSETFROM:-0700
TZOFFSETTO:-0600
TZNAME:MDT
DTSTART:20250309T090000
END:DAYLIGHT
BEGIN:STANDARD
TZOFFSETFROM:-0600
TZOFFSETTO:-0700
TZNAME:MST
DTSTART:20251102T080000
END:STANDARD
BEGIN:DAYLIGHT
TZOFFSETFROM:-0700
TZOFFSETTO:-0600
TZNAME:MDT
DTSTART:20260308T090000
END:DAYLIGHT
BEGIN:STANDARD
TZOFFSETFROM:-0600
TZOFFSETTO:-0700
TZNAME:MST
DTSTART:20261101T080000
END:STANDARD
BEGIN:DAYLIGHT
TZOFFSETFROM:-0700
TZOFFSETTO:-0600
TZNAME:MDT
DTSTART:20270314T090000
END:DAYLIGHT
BEGIN:STANDARD
TZOFFSETFROM:-0600
TZOFFSETTO:-0700
TZNAME:MST
DTSTART:20271107T080000
END:STANDARD
END:VTIMEZONE
BEGIN:VEVENT
DTSTART;TZID=America/Edmonton:20260509T140000
DTEND;TZID=America/Edmonton:20260607T160000
DTSTAMP:20260424T132709
CREATED:20260423T222324Z
LAST-MODIFIED:20260423T223606Z
UID:10004351-1778335200-1780848000@calgarydt-seeker.paperleaftest.com
SUMMARY:The Verdict
DESCRIPTION:One big case. One last shot at redemption.\n\nFrank Galvin is a washed-up alcoholic lawyer who is presiding over what should be an open and shut malpractice case. Suspecting a cover up\, he daringly refuses an out-of-court settlement and instead takes on the negligent doctors and the unforgiving and powerful Boston medical establishment. This is a day in court that is not to be missed.\n\nBased off the best-selling novel by Barry Reed that became a classic Sidney Lumet film starring Paul Newman\, this North American Premiere of a new theatrical adaptation of the classic courtroom drama is a day in court that is not to be missed.
URL:https://calgarydt-seeker.paperleaftest.com/event-calendar/tuc7y5cx8-the-verdict-occ-8986/
LOCATION:Vertigo Theatre\, Suite #161\, Calgary\, Ab
CATEGORIES:Theatre & performing arts
END:VEVENT
BEGIN:VEVENT
DTSTART;TZID=America/Edmonton:20260523T143000
DTEND;TZID=America/Edmonton:20260524T161500
DTSTAMP:20260424T132709
CREATED:20260423T222621Z
LAST-MODIFIED:20260423T223631Z
UID:10004406-1779546600-1779639300@calgarydt-seeker.paperleaftest.com
SUMMARY:The Time Machinist
DESCRIPTION:Experience the captivating mysteries of time travel as the bold and eccentric Time Machinist\, Owen Mittagen Vottenberg III\, invites you on an unforgettable adventure through the ages.  \n \nMeet a fascinating cast of characters collected from his travels and watch the magic of his powerful time machine come alive onstage. Filled with breathtaking circus artistry\, rich storytelling\, and edge-of-your-seat surprises\, this imaginative production brings history\, fantasy\, and adventure together in a way that captivates audiences of every age. Join Owen as he pushes his invention to daring new limits where wonder\, excitement\, and a hint of danger await. Don’t miss your chance to run away with the circus and witness this incredible spectacle of timeless proportions!
URL:https://calgarydt-seeker.paperleaftest.com/event-calendar/ox1tryfuc-the-time-machinist-occ-8988/
LOCATION:The GRAND\, 608 1st St SW\, Calgary\, Ab\, T2P 3B1
CATEGORIES:Theatre & performing arts
END:VEVENT
BEGIN:VEVENT
DTSTART;TZID=America/Edmonton:20260524T140000
DTEND;TZID=America/Edmonton:20260524T235959
DTSTAMP:20260424T132709
CREATED:20260423T222449Z
LAST-MODIFIED:20260423T223624Z
UID:10004387-1779631200-1779667199@calgarydt-seeker.paperleaftest.com
SUMMARY:Stage It Festival
DESCRIPTION:Celebrate the bold voices of tomorrow at our four-day 2026 Stage It Festival\, featuring dynamic new work from Calgary’s emerging Creator-Producers Kaya Coleman\, Kamika Bianca Guerra-Walker\, Natalia Cortes and Evelina Groll.  \n\nThis vibrant spring festival includes a slate of exciting performances—music\, drag\, improv\, and stand-up—plus an exclusive of Hunt/Peck experience\, created by Donna-Michelle St. Bernard\, directed by Clare Preuss and featuring Denise Clarke\, Jared Tobias Herring\, Linnea Swan and Omatta Udalor. 
URL:https://calgarydt-seeker.paperleaftest.com/event-calendar/ugdeqfw_n-stage-it-festival-occ-8987/
LOCATION:Motel Theatre & Centre Court\, Werklund Centre\, 2nd floor\, 225 8th Avenue South East\, Calgary\, Alberta
CATEGORIES:Music & concerts,Theatre & performing arts
END:VEVENT
BEGIN:VEVENT
DTSTART;TZID=America/Edmonton:20260524T193000
DTEND;TZID=America/Edmonton:20260524T213000
DTSTAMP:20260424T132709
CREATED:20260423T222323Z
LAST-MODIFIED:20260423T223605Z
UID:10004336-1779651000-1779658200@calgarydt-seeker.paperleaftest.com
SUMMARY:The Verdict
DESCRIPTION:One big case. One last shot at redemption.\n\nFrank Galvin is a washed-up alcoholic lawyer who is presiding over what should be an open and shut malpractice case. Suspecting a cover up\, he daringly refuses an out-of-court settlement and instead takes on the negligent doctors and the unforgiving and powerful Boston medical establishment. This is a day in court that is not to be missed.\n\nBased off the best-selling novel by Barry Reed that became a classic Sidney Lumet film starring Paul Newman\, this North American Premiere of a new theatrical adaptation of the classic courtroom drama is a day in court that is not to be missed.
URL:https://calgarydt-seeker.paperleaftest.com/event-calendar/tuc7y5cx8-the-verdict/2026-05-24/
LOCATION:Vertigo Theatre\, Suite #161\, Calgary\, Ab
CATEGORIES:Theatre & performing arts
END:VEVENT
END:VCALENDAR