BEGIN:VCALENDAR
VERSION:2.0
PRODID:-//Explore Downtown YYC - ECPv6.15.15//NONSGML v1.0//EN
CALSCALE:GREGORIAN
METHOD:PUBLISH
X-ORIGINAL-URL:https://calgarydt-seeker.paperleaftest.com
X-WR-CALDESC:Events for Explore Downtown YYC
REFRESH-INTERVAL;VALUE=DURATION:PT1H
X-Robots-Tag:noindex
X-PUBLISHED-TTL:PT1H
BEGIN:VTIMEZONE
TZID:America/Edmonton
BEGIN:DAYLIGHT
TZOFFSETFROM:-0700
TZOFFSETTO:-0600
TZNAME:MDT
DTSTART:20250309T090000
END:DAYLIGHT
BEGIN:STANDARD
TZOFFSETFROM:-0600
TZOFFSETTO:-0700
TZNAME:MST
DTSTART:20251102T080000
END:STANDARD
BEGIN:DAYLIGHT
TZOFFSETFROM:-0700
TZOFFSETTO:-0600
TZNAME:MDT
DTSTART:20260308T090000
END:DAYLIGHT
BEGIN:STANDARD
TZOFFSETFROM:-0600
TZOFFSETTO:-0700
TZNAME:MST
DTSTART:20261101T080000
END:STANDARD
BEGIN:DAYLIGHT
TZOFFSETFROM:-0700
TZOFFSETTO:-0600
TZNAME:MDT
DTSTART:20270314T090000
END:DAYLIGHT
BEGIN:STANDARD
TZOFFSETFROM:-0600
TZOFFSETTO:-0700
TZNAME:MST
DTSTART:20271107T080000
END:STANDARD
END:VTIMEZONE
BEGIN:VEVENT
DTSTART;TZID=America/Edmonton:20260508T193000
DTEND;TZID=America/Edmonton:20260522T213000
DTSTAMP:20260424T132705
CREATED:20260423T222050Z
LAST-MODIFIED:20260423T223541Z
UID:10004155-1778268600-1779485400@calgarydt-seeker.paperleaftest.com
SUMMARY:Shakespeare Under the Bed
DESCRIPTION:he’s baaaaaaack—he’s funny\, he’s furious\, and he’s taking over. when a geneticist unleashes william shakespeare into the present day\, she’s forced to contain a bard who is louder\, queerer\, and more outraged than ever. as shakespeare commandeers a theatre\, falls in love with a drag queen\, and attempts to incite an artistic revolt\, what begins as a scientific leap-of-faith soon spirals into a coup that threatens a government takedown. \n18+. contemporary comedy.
URL:https://calgarydt-seeker.paperleaftest.com/event-calendar/_ohdgk9tq-shakespeare-under-the-bed-occ-8980/
LOCATION:the theatre\, 101\, 215 14 av sw\, Calgary\, Ab
CATEGORIES:Theatre & performing arts
END:VEVENT
BEGIN:VEVENT
DTSTART;TZID=America/Edmonton:20260509T140000
DTEND;TZID=America/Edmonton:20260607T160000
DTSTAMP:20260424T132705
CREATED:20260423T222324Z
LAST-MODIFIED:20260423T223606Z
UID:10004351-1778335200-1780848000@calgarydt-seeker.paperleaftest.com
SUMMARY:The Verdict
DESCRIPTION:One big case. One last shot at redemption.\n\nFrank Galvin is a washed-up alcoholic lawyer who is presiding over what should be an open and shut malpractice case. Suspecting a cover up\, he daringly refuses an out-of-court settlement and instead takes on the negligent doctors and the unforgiving and powerful Boston medical establishment. This is a day in court that is not to be missed.\n\nBased off the best-selling novel by Barry Reed that became a classic Sidney Lumet film starring Paul Newman\, this North American Premiere of a new theatrical adaptation of the classic courtroom drama is a day in court that is not to be missed.
URL:https://calgarydt-seeker.paperleaftest.com/event-calendar/tuc7y5cx8-the-verdict-occ-8986/
LOCATION:Vertigo Theatre\, Suite #161\, Calgary\, Ab
CATEGORIES:Theatre & performing arts
END:VEVENT
BEGIN:VEVENT
DTSTART;TZID=America/Edmonton:20260514T143000
DTEND;TZID=America/Edmonton:20260514T163000
DTSTAMP:20260424T132705
CREATED:20260423T222049Z
LAST-MODIFIED:20260423T223541Z
UID:10004146-1778769000-1778776200@calgarydt-seeker.paperleaftest.com
SUMMARY:Shakespeare Under the Bed
DESCRIPTION:he’s baaaaaaack—he’s funny\, he’s furious\, and he’s taking over. when a geneticist unleashes william shakespeare into the present day\, she’s forced to contain a bard who is louder\, queerer\, and more outraged than ever. as shakespeare commandeers a theatre\, falls in love with a drag queen\, and attempts to incite an artistic revolt\, what begins as a scientific leap-of-faith soon spirals into a coup that threatens a government takedown. \n18+. contemporary comedy.
URL:https://calgarydt-seeker.paperleaftest.com/event-calendar/_ohdgk9tq-shakespeare-under-the-bed/2026-05-14/
LOCATION:the theatre\, 101\, 215 14 av sw\, Calgary\, Ab
CATEGORIES:Theatre & performing arts
END:VEVENT
BEGIN:VEVENT
DTSTART;TZID=America/Edmonton:20260514T193000
DTEND;TZID=America/Edmonton:20260514T213000
DTSTAMP:20260424T132705
CREATED:20260423T222323Z
LAST-MODIFIED:20260423T223605Z
UID:10004326-1778787000-1778794200@calgarydt-seeker.paperleaftest.com
SUMMARY:The Verdict
DESCRIPTION:One big case. One last shot at redemption.\n\nFrank Galvin is a washed-up alcoholic lawyer who is presiding over what should be an open and shut malpractice case. Suspecting a cover up\, he daringly refuses an out-of-court settlement and instead takes on the negligent doctors and the unforgiving and powerful Boston medical establishment. This is a day in court that is not to be missed.\n\nBased off the best-selling novel by Barry Reed that became a classic Sidney Lumet film starring Paul Newman\, this North American Premiere of a new theatrical adaptation of the classic courtroom drama is a day in court that is not to be missed.
URL:https://calgarydt-seeker.paperleaftest.com/event-calendar/tuc7y5cx8-the-verdict/2026-05-14/
LOCATION:Vertigo Theatre\, Suite #161\, Calgary\, Ab
CATEGORIES:Theatre & performing arts
END:VEVENT
END:VCALENDAR