BEGIN:VCALENDAR
VERSION:2.0
PRODID:-//Explore Downtown YYC - ECPv6.15.15//NONSGML v1.0//EN
CALSCALE:GREGORIAN
METHOD:PUBLISH
X-WR-CALNAME:Explore Downtown YYC
X-ORIGINAL-URL:https://calgarydt-seeker.paperleaftest.com
X-WR-CALDESC:Events for Explore Downtown YYC
REFRESH-INTERVAL;VALUE=DURATION:PT1H
X-Robots-Tag:noindex
X-PUBLISHED-TTL:PT1H
BEGIN:VTIMEZONE
TZID:America/Edmonton
BEGIN:DAYLIGHT
TZOFFSETFROM:-0700
TZOFFSETTO:-0600
TZNAME:MDT
DTSTART:20250309T090000
END:DAYLIGHT
BEGIN:STANDARD
TZOFFSETFROM:-0600
TZOFFSETTO:-0700
TZNAME:MST
DTSTART:20251102T080000
END:STANDARD
BEGIN:DAYLIGHT
TZOFFSETFROM:-0700
TZOFFSETTO:-0600
TZNAME:MDT
DTSTART:20260308T090000
END:DAYLIGHT
BEGIN:STANDARD
TZOFFSETFROM:-0600
TZOFFSETTO:-0700
TZNAME:MST
DTSTART:20261101T080000
END:STANDARD
BEGIN:DAYLIGHT
TZOFFSETFROM:-0700
TZOFFSETTO:-0600
TZNAME:MDT
DTSTART:20270314T090000
END:DAYLIGHT
BEGIN:STANDARD
TZOFFSETFROM:-0600
TZOFFSETTO:-0700
TZNAME:MST
DTSTART:20271107T080000
END:STANDARD
END:VTIMEZONE
BEGIN:VEVENT
DTSTART;TZID=America/Edmonton:20260529T193000
DTEND;TZID=America/Edmonton:20260529T235959
DTSTAMP:20260424T095009
CREATED:20260423T222631Z
LAST-MODIFIED:20260423T223400Z
UID:10004435-1780083000-1780099199@calgarydt-seeker.paperleaftest.com
SUMMARY:Broadway Hits: Hamilton\, Rent + More!
DESCRIPTION:Grab your seats for this Broadway extravaganza as your Calgary Phil brings the splendour of The Great White Way to Jack Singer Concert Hall! Juliane Gallant and three marvellous vocal stars team up with the Orchestra to perform memorable tunes from modern musicals including Hamilton and Rent\, plus the great Stephen Sondheim’s songs from Sweeney Todd and Company.
URL:https://calgarydt-seeker.paperleaftest.com/event-calendar/eilp-abz5-broadway-hits-hamilton-rent-more/2026-05-29/
LOCATION:Jack Singer Concert Hall\, 225 8 Ave SE\, Calgary\, T2G 0K9
CATEGORIES:Music & concerts
ATTACH;FMTTYPE=image/png:https://calgarydt-seeker.paperleaftest.com/wp-content/uploads/2026/04/77bb3a21-9cfa-4ed3-97a4-161a4ae69645-1400-1.png
END:VEVENT
END:VCALENDAR