BEGIN:VCALENDAR
VERSION:2.0
PRODID:-//Explore Downtown YYC - ECPv6.15.15//NONSGML v1.0//EN
CALSCALE:GREGORIAN
METHOD:PUBLISH
X-WR-CALNAME:Explore Downtown YYC
X-ORIGINAL-URL:https://calgarydt-seeker.paperleaftest.com
X-WR-CALDESC:Events for Explore Downtown YYC
REFRESH-INTERVAL;VALUE=DURATION:PT1H
X-Robots-Tag:noindex
X-PUBLISHED-TTL:PT1H
BEGIN:VTIMEZONE
TZID:America/Edmonton
BEGIN:DAYLIGHT
TZOFFSETFROM:-0700
TZOFFSETTO:-0600
TZNAME:MDT
DTSTART:20250309T090000
END:DAYLIGHT
BEGIN:STANDARD
TZOFFSETFROM:-0600
TZOFFSETTO:-0700
TZNAME:MST
DTSTART:20251102T080000
END:STANDARD
BEGIN:DAYLIGHT
TZOFFSETFROM:-0700
TZOFFSETTO:-0600
TZNAME:MDT
DTSTART:20260308T090000
END:DAYLIGHT
BEGIN:STANDARD
TZOFFSETFROM:-0600
TZOFFSETTO:-0700
TZNAME:MST
DTSTART:20261101T080000
END:STANDARD
BEGIN:DAYLIGHT
TZOFFSETFROM:-0700
TZOFFSETTO:-0600
TZNAME:MDT
DTSTART:20270314T090000
END:DAYLIGHT
BEGIN:STANDARD
TZOFFSETFROM:-0600
TZOFFSETTO:-0700
TZNAME:MST
DTSTART:20271107T080000
END:STANDARD
END:VTIMEZONE
BEGIN:VEVENT
DTSTART;TZID=America/Edmonton:20260522T193000
DTEND;TZID=America/Edmonton:20260523T235959
DTSTAMP:20260424T090307
CREATED:20260423T222616Z
LAST-MODIFIED:20260423T222918Z
UID:10004402-1779478200-1779580799@calgarydt-seeker.paperleaftest.com
SUMMARY:Mahler’s First Symphony
DESCRIPTION:Discover Mahler’s mighty First Symphony as the Calgary Phil perform this orchestral epic that takes you from the joys of springtime — through rustic dances to an ironic funeral march — and culminates in victory over worldly despair.
URL:https://calgarydt-seeker.paperleaftest.com/event-calendar/ntvjjhcju-mahlers-first-symphony/
LOCATION:Jack Singer Concert Hall\, 225 8 Ave SE\, Calgary\, T2G 0K9
CATEGORIES:Music & concerts
END:VEVENT
BEGIN:VEVENT
DTSTART;TZID=America/Edmonton:20260523T180000
DTEND;TZID=America/Edmonton:20260523T235959
DTSTAMP:20260424T090307
CREATED:20260423T222448Z
LAST-MODIFIED:20260423T223623Z
UID:10004386-1779559200-1779580799@calgarydt-seeker.paperleaftest.com
SUMMARY:Stage It Festival
DESCRIPTION:Celebrate the bold voices of tomorrow at our four-day 2026 Stage It Festival\, featuring dynamic new work from Calgary’s emerging Creator-Producers Kaya Coleman\, Kamika Bianca Guerra-Walker\, Natalia Cortes and Evelina Groll.  \n\nThis vibrant spring festival includes a slate of exciting performances—music\, drag\, improv\, and stand-up—plus an exclusive of Hunt/Peck experience\, created by Donna-Michelle St. Bernard\, directed by Clare Preuss and featuring Denise Clarke\, Jared Tobias Herring\, Linnea Swan and Omatta Udalor. 
URL:https://calgarydt-seeker.paperleaftest.com/event-calendar/ugdeqfw_n-stage-it-festival/2026-05-23/
LOCATION:Motel Theatre & Centre Court\, Werklund Centre\, 2nd floor\, 225 8th Avenue South East\, Calgary\, Alberta
CATEGORIES:Music & concerts,Theatre & performing arts
END:VEVENT
BEGIN:VEVENT
DTSTART;TZID=America/Edmonton:20260523T193000
DTEND;TZID=America/Edmonton:20260523T235959
DTSTAMP:20260424T090307
CREATED:20260423T222617Z
LAST-MODIFIED:20260423T222919Z
UID:10004403-1779564600-1779580799@calgarydt-seeker.paperleaftest.com
SUMMARY:Mahler’s First Symphony
DESCRIPTION:Discover Mahler’s mighty First Symphony as the Calgary Phil perform this orchestral epic that takes you from the joys of springtime — through rustic dances to an ironic funeral march — and culminates in victory over worldly despair.
URL:https://calgarydt-seeker.paperleaftest.com/event-calendar/ntvjjhcju-mahlers-first-symphony-occ-4019/
LOCATION:Jack Singer Concert Hall\, 225 8 Ave SE\, Calgary\, T2G 0K9
CATEGORIES:Music & concerts
END:VEVENT
END:VCALENDAR