BEGIN:VCALENDAR
VERSION:2.0
PRODID:-//Explore Downtown YYC - ECPv6.15.15//NONSGML v1.0//EN
CALSCALE:GREGORIAN
METHOD:PUBLISH
X-ORIGINAL-URL:https://calgarydt-seeker.paperleaftest.com
X-WR-CALDESC:Events for Explore Downtown YYC
REFRESH-INTERVAL;VALUE=DURATION:PT1H
X-Robots-Tag:noindex
X-PUBLISHED-TTL:PT1H
BEGIN:VTIMEZONE
TZID:America/Edmonton
BEGIN:DAYLIGHT
TZOFFSETFROM:-0700
TZOFFSETTO:-0600
TZNAME:MDT
DTSTART:20250309T090000
END:DAYLIGHT
BEGIN:STANDARD
TZOFFSETFROM:-0600
TZOFFSETTO:-0700
TZNAME:MST
DTSTART:20251102T080000
END:STANDARD
BEGIN:DAYLIGHT
TZOFFSETFROM:-0700
TZOFFSETTO:-0600
TZNAME:MDT
DTSTART:20260308T090000
END:DAYLIGHT
BEGIN:STANDARD
TZOFFSETFROM:-0600
TZOFFSETTO:-0700
TZNAME:MST
DTSTART:20261101T080000
END:STANDARD
BEGIN:DAYLIGHT
TZOFFSETFROM:-0700
TZOFFSETTO:-0600
TZNAME:MDT
DTSTART:20270314T090000
END:DAYLIGHT
BEGIN:STANDARD
TZOFFSETFROM:-0600
TZOFFSETTO:-0700
TZNAME:MST
DTSTART:20271107T080000
END:STANDARD
END:VTIMEZONE
BEGIN:VEVENT
DTSTART;TZID=America/Edmonton:20260521T180000
DTEND;TZID=America/Edmonton:20260521T235959
DTSTAMP:20260424T085625
CREATED:20260423T222448Z
LAST-MODIFIED:20260423T223623Z
UID:10004384-1779386400-1779407999@calgarydt-seeker.paperleaftest.com
SUMMARY:Stage It Festival
DESCRIPTION:Celebrate the bold voices of tomorrow at our four-day 2026 Stage It Festival\, featuring dynamic new work from Calgary’s emerging Creator-Producers Kaya Coleman\, Kamika Bianca Guerra-Walker\, Natalia Cortes and Evelina Groll.  \n\nThis vibrant spring festival includes a slate of exciting performances—music\, drag\, improv\, and stand-up—plus an exclusive of Hunt/Peck experience\, created by Donna-Michelle St. Bernard\, directed by Clare Preuss and featuring Denise Clarke\, Jared Tobias Herring\, Linnea Swan and Omatta Udalor. 
URL:https://calgarydt-seeker.paperleaftest.com/event-calendar/ugdeqfw_n-stage-it-festival/2026-05-21/
LOCATION:Motel Theatre & Centre Court\, Werklund Centre\, 2nd floor\, 225 8th Avenue South East\, Calgary\, Alberta
CATEGORIES:Music & concerts,Theatre & performing arts
END:VEVENT
BEGIN:VEVENT
DTSTART;TZID=America/Edmonton:20260521T190000
DTEND;TZID=America/Edmonton:20260521T234500
DTSTAMP:20260424T085625
CREATED:20260423T222451Z
LAST-MODIFIED:20260423T223625Z
UID:10004388-1779390000-1779407100@calgarydt-seeker.paperleaftest.com
SUMMARY:Arkells
DESCRIPTION:Arkells brings the Between Us City Takeover to The Palace on Thursday\, May 21st! \n\nDate: Thursday\, May 21st\, 2026 \n Doors: 7:00 PM \n 18+ only with a valid government-issued ID
URL:https://calgarydt-seeker.paperleaftest.com/event-calendar/kdt1cvslq-arkells/
LOCATION:The Palace Theatre\, 219 8th Avenue SW\, Calgary\, Alberta\, T2P 1B7
CATEGORIES:Music & concerts
ATTACH;FMTTYPE=image/jpeg:https://calgarydt-seeker.paperleaftest.com/wp-content/uploads/2026/04/f9a79c99-0112-4202-b807-2c1411d5737d-1400.jpg
END:VEVENT
END:VCALENDAR