BEGIN:VCALENDAR
VERSION:2.0
PRODID:-//Explore Downtown YYC - ECPv6.15.15//NONSGML v1.0//EN
CALSCALE:GREGORIAN
METHOD:PUBLISH
X-ORIGINAL-URL:https://calgarydt-seeker.paperleaftest.com
X-WR-CALDESC:Events for Explore Downtown YYC
REFRESH-INTERVAL;VALUE=DURATION:PT1H
X-Robots-Tag:noindex
X-PUBLISHED-TTL:PT1H
BEGIN:VTIMEZONE
TZID:America/Denver
BEGIN:DAYLIGHT
TZOFFSETFROM:-0700
TZOFFSETTO:-0600
TZNAME:MDT
DTSTART:20250309T090000
END:DAYLIGHT
BEGIN:STANDARD
TZOFFSETFROM:-0600
TZOFFSETTO:-0700
TZNAME:MST
DTSTART:20251102T080000
END:STANDARD
BEGIN:DAYLIGHT
TZOFFSETFROM:-0700
TZOFFSETTO:-0600
TZNAME:MDT
DTSTART:20260308T090000
END:DAYLIGHT
BEGIN:STANDARD
TZOFFSETFROM:-0600
TZOFFSETTO:-0700
TZNAME:MST
DTSTART:20261101T080000
END:STANDARD
BEGIN:DAYLIGHT
TZOFFSETFROM:-0700
TZOFFSETTO:-0600
TZNAME:MDT
DTSTART:20270314T090000
END:DAYLIGHT
BEGIN:STANDARD
TZOFFSETFROM:-0600
TZOFFSETTO:-0700
TZNAME:MST
DTSTART:20271107T080000
END:STANDARD
END:VTIMEZONE
BEGIN:VTIMEZONE
TZID:America/Edmonton
BEGIN:DAYLIGHT
TZOFFSETFROM:-0700
TZOFFSETTO:-0600
TZNAME:MDT
DTSTART:20250309T090000
END:DAYLIGHT
BEGIN:STANDARD
TZOFFSETFROM:-0600
TZOFFSETTO:-0700
TZNAME:MST
DTSTART:20251102T080000
END:STANDARD
BEGIN:DAYLIGHT
TZOFFSETFROM:-0700
TZOFFSETTO:-0600
TZNAME:MDT
DTSTART:20260308T090000
END:DAYLIGHT
BEGIN:STANDARD
TZOFFSETFROM:-0600
TZOFFSETTO:-0700
TZNAME:MST
DTSTART:20261101T080000
END:STANDARD
BEGIN:DAYLIGHT
TZOFFSETFROM:-0700
TZOFFSETTO:-0600
TZNAME:MDT
DTSTART:20270314T090000
END:DAYLIGHT
BEGIN:STANDARD
TZOFFSETFROM:-0600
TZOFFSETTO:-0700
TZNAME:MST
DTSTART:20271107T080000
END:STANDARD
END:VTIMEZONE
BEGIN:VEVENT
DTSTART;TZID=America/Denver:20260509T173000
DTEND;TZID=America/Denver:20260509T213000
DTSTAMP:20260424T090516
CREATED:20260423T222207Z
LAST-MODIFIED:20260423T223600Z
UID:10004307-1778347800-1778362200@calgarydt-seeker.paperleaftest.com
SUMMARY:Mother’s Day special concert
DESCRIPTION:Celebra a mamá con buena música y vibes en La Bodeguita Stereo junto a Oscar Lopez. ¡No te lo pierdas!\n\nMothers Day Special at La Bodeguita Stereo\n\nCelebrate Mother’s Day in style with an unforgettable live performance by multi-Juno award-winning Oscar Lopez! Join us for an in-person event filled with great vibes\, good music\, and plenty of fun. It’s the perfect way to treat mom and make some amazing memories. Don’t miss out on this special day at La Bodeguita Stereo!\n\nBased on the best-selling novel by Barry Reed that became a classic Sidney Lumet film starring Paul Newman\, this North American Premiere of a new theatrical adaptation of the classic courtroom drama is a day in court that is not to be missed.
URL:https://calgarydt-seeker.paperleaftest.com/event-calendar/bmdy0habg-mothers-day-special-concert/
LOCATION:La Bodeguita Stereo\, 6439 2 St SE\, Calgary\, T2H 1J5
CATEGORIES:Music & concerts
ATTACH;FMTTYPE=image/jpeg:https://calgarydt-seeker.paperleaftest.com/wp-content/uploads/2026/04/442b132c-b60a-4540-9de8-14232932f760-1400-2.jpg
END:VEVENT
BEGIN:VEVENT
DTSTART;TZID=America/Edmonton:20260509T183000
DTEND;TZID=America/Edmonton:20260509T235959
DTSTAMP:20260424T090516
CREATED:20260423T222316Z
LAST-MODIFIED:20260423T223602Z
UID:10004319-1778351400-1778371199@calgarydt-seeker.paperleaftest.com
SUMMARY:Candlelight: Hip-Hop on Strings
DESCRIPTION:⭐ *Candlelight* concerts bring the magic of a live\, multi-sensory musical experience to awe-inspiring locations like never seen before in Calgary. Get your tickets now to discover the music of Hip-Hop on Strings at The GRAND under the gentle glow of candlelight.  \n \n📍 Venue: The GRAND \n\n⏳ Duration: 60 minutes. Doors open 45 minutes before the show. No entry once it starts.  \n👤 Age recommendation: The experience is recommended for those who are 8+. To preserve the experience\, disruptive behaviour may result in being asked to step outside. Anyone under the age of 16 must be accompanied by an adult. \n♿ Accessibility: this venue is accessible for people with reduced mobility \n🪑 Seating is assigned on a first-come\, first-served basis in each zone \n🕯️ If you would like to book a private concert or buy regular tickets for a large group (+30 people)\, click [here](https://candlelightexperience.com/groups/#groups-form) \n\n**Tentative Program** \nGangsta’s Paradise – Coolio\n– \nI Like It – Cardi B \nJay-Z Medley \nOutkast Medley \nLauryn Hill and Fugees Medley \nPassionfruit – Drake \nKendrick Lamar Medley \n2Pac Medley \nThe Notorious B.I.G. Medley\n Dr. Dre Medley \nEminem Medley 
URL:https://calgarydt-seeker.paperleaftest.com/event-calendar/levv09vju-candlelight-hip-hop-on-strings/
LOCATION:The GRAND\, 608 1 St SW\, Calgary\, Alberta\, T2P 1M6
CATEGORIES:Music & concerts
ATTACH;FMTTYPE=image/png:https://calgarydt-seeker.paperleaftest.com/wp-content/uploads/2026/04/653f2108-1e1c-440c-98d0-09374b795a95-1400-1.png
END:VEVENT
BEGIN:VEVENT
DTSTART;TZID=America/Denver:20260509T190000
DTEND;TZID=America/Denver:20260509T213000
DTSTAMP:20260424T090517
CREATED:20260423T222320Z
LAST-MODIFIED:20260423T223603Z
UID:10004320-1778353200-1778362200@calgarydt-seeker.paperleaftest.com
SUMMARY:New West Society presents Better Together
DESCRIPTION:New West Society presents Better Together — an inspiring evening of music that celebrates the people who make life meaningful and remind us that we truly belong. Join us for a joyful musical journey where powerful choral and orchestral performances come together to create a warm\, welcoming atmosphere that feels like home.  \n \nAudiences of all ages will delight in music made famous by Sister Sledge\, Toto\, Stevie Wonder\, and Phillip Phillips\, alongside favourites from Broadway’s Fiddler on the Roof and Rent\, and powerful movie moments from The Greatest Showman\, including the unforgettable anthem From Now On.  \n \nBetter Together showcases the remarkable talents of\n• New West Symphony & Chorus\n• New West Student Ensemble\n• New West Children’s Choir
URL:https://calgarydt-seeker.paperleaftest.com/event-calendar/iawlwgroqj-new-west-society-presents-better-together/
LOCATION:Jack Singer Concert Hall\, 205 8 Ave SE\, Calgary
CATEGORIES:Music & concerts
ATTACH;FMTTYPE=image/jpeg:https://calgarydt-seeker.paperleaftest.com/wp-content/uploads/2026/04/3611b936-3ad1-4629-8434-a8f5c40e9b08-1400-1.jpg
END:VEVENT
BEGIN:VEVENT
DTSTART;TZID=America/Edmonton:20260509T200000
DTEND;TZID=America/Edmonton:20260509T233000
DTSTAMP:20260424T090517
CREATED:20260423T222326Z
LAST-MODIFIED:20260423T223608Z
UID:10004352-1778356800-1778369400@calgarydt-seeker.paperleaftest.com
SUMMARY:The Accused AD w/ Powerload\, Sick Ritual\, Disaster Relief
DESCRIPTION:Crossover thrash punks\, THE ACCUSED AD\, will be bringing their splatter classics to Calgary for the first time in decades this spring!
URL:https://calgarydt-seeker.paperleaftest.com/event-calendar/ffbze_pmj-the-accused-ad-w-powerload-sick-ritual-disaster-relief/
LOCATION:Dickens\, Lower 1000 9 Ave SW\, Calgary\, Ab\, T2P 2Y6
CATEGORIES:Music & concerts
ATTACH;FMTTYPE=image/jpeg:https://calgarydt-seeker.paperleaftest.com/wp-content/uploads/2026/04/659fbc3d-eec0-4833-bf30-b075c2b0da74-1400.jpg
END:VEVENT
END:VCALENDAR