BEGIN:VCALENDAR
VERSION:2.0
PRODID:-//Explore Downtown YYC - ECPv6.15.15//NONSGML v1.0//EN
CALSCALE:GREGORIAN
METHOD:PUBLISH
X-ORIGINAL-URL:https://calgarydt-seeker.paperleaftest.com
X-WR-CALDESC:Events for Explore Downtown YYC
REFRESH-INTERVAL;VALUE=DURATION:PT1H
X-Robots-Tag:noindex
X-PUBLISHED-TTL:PT1H
BEGIN:VTIMEZONE
TZID:America/Edmonton
BEGIN:DAYLIGHT
TZOFFSETFROM:-0700
TZOFFSETTO:-0600
TZNAME:MDT
DTSTART:20250309T090000
END:DAYLIGHT
BEGIN:STANDARD
TZOFFSETFROM:-0600
TZOFFSETTO:-0700
TZNAME:MST
DTSTART:20251102T080000
END:STANDARD
BEGIN:DAYLIGHT
TZOFFSETFROM:-0700
TZOFFSETTO:-0600
TZNAME:MDT
DTSTART:20260308T090000
END:DAYLIGHT
BEGIN:STANDARD
TZOFFSETFROM:-0600
TZOFFSETTO:-0700
TZNAME:MST
DTSTART:20261101T080000
END:STANDARD
BEGIN:DAYLIGHT
TZOFFSETFROM:-0700
TZOFFSETTO:-0600
TZNAME:MDT
DTSTART:20270314T090000
END:DAYLIGHT
BEGIN:STANDARD
TZOFFSETFROM:-0600
TZOFFSETTO:-0700
TZNAME:MST
DTSTART:20271107T080000
END:STANDARD
END:VTIMEZONE
BEGIN:VTIMEZONE
TZID:America/Denver
BEGIN:DAYLIGHT
TZOFFSETFROM:-0700
TZOFFSETTO:-0600
TZNAME:MDT
DTSTART:20250309T090000
END:DAYLIGHT
BEGIN:STANDARD
TZOFFSETFROM:-0600
TZOFFSETTO:-0700
TZNAME:MST
DTSTART:20251102T080000
END:STANDARD
BEGIN:DAYLIGHT
TZOFFSETFROM:-0700
TZOFFSETTO:-0600
TZNAME:MDT
DTSTART:20260308T090000
END:DAYLIGHT
BEGIN:STANDARD
TZOFFSETFROM:-0600
TZOFFSETTO:-0700
TZNAME:MST
DTSTART:20261101T080000
END:STANDARD
BEGIN:DAYLIGHT
TZOFFSETFROM:-0700
TZOFFSETTO:-0600
TZNAME:MDT
DTSTART:20270314T090000
END:DAYLIGHT
BEGIN:STANDARD
TZOFFSETFROM:-0600
TZOFFSETTO:-0700
TZNAME:MST
DTSTART:20271107T080000
END:STANDARD
END:VTIMEZONE
BEGIN:VEVENT
DTSTART;TZID=America/Edmonton:20260508T180000
DTEND;TZID=America/Edmonton:20260508T220000
DTSTAMP:20260424T085625
CREATED:20260423T222149Z
LAST-MODIFIED:20260423T223552Z
UID:10004303-1778263200-1778277600@calgarydt-seeker.paperleaftest.com
SUMMARY:AFCC Red Dress Powwow
DESCRIPTION:We are proud to bring the community together for an unforgettable evening of dancing\, drumming\, and honouring our traditions at the Big Four Roadhouse. This important gathering is dedicated to raising vital awareness and honouring our Missing\, Murdered\, and Exploited Indigenous Peoples (MMEIP).  \n\nWe need your support to make this impactful event a reality! We are actively seeking community sponsors to help us bring this gathering to life. This is a powerful opportunity for your organization to stand with us\, support Indigenous culture\, and help amplify this vital cause. \n\nStay tuned\, as more information is to come! 
URL:https://calgarydt-seeker.paperleaftest.com/event-calendar/_ktcnyqsyu-afcc-red-dress-powwow/
LOCATION:The Big Four Roadhouse\, Calgary
CATEGORIES:Festivals & events,Music & concerts
ATTACH;FMTTYPE=image/jpeg:https://calgarydt-seeker.paperleaftest.com/wp-content/uploads/2026/04/60163c97-1a62-45b6-86f0-87e47197c53a-1400-1.jpg
END:VEVENT
BEGIN:VEVENT
DTSTART;TZID=America/Edmonton:20260508T193000
DTEND;TZID=America/Edmonton:20260508T235959
DTSTAMP:20260424T085625
CREATED:20260423T222154Z
LAST-MODIFIED:20260423T223554Z
UID:10004304-1778268600-1778284799@calgarydt-seeker.paperleaftest.com
SUMMARY:Postcards from Italy
DESCRIPTION:Take a musical journey with the Calgary Phil to beautiful Italy with conductor Cosette Justo Valdés as your guide — from Stravinsky’s take on Pulcinella\, a traditional character of the Neapolitan stage\, to Mendelssohn’s Italian Symphony\, inspired by impressions of the country’s scenery and architecture. Respighi’s evocation of three celebrated paintings by Italian Renaissance artist Sandro Botticelli rounds off the tour. \n \nIgor StravinskyPulcinella SuiteOttorino Respighi Trittico BotticellianoFelix Mendelssohn Symphony No. 4
URL:https://calgarydt-seeker.paperleaftest.com/event-calendar/xlvmhg9vs-postcards-from-italy/
LOCATION:Jack Singer Concert Hall\, 225 8 Ave SE\, Calgary\, T2G 0K9
CATEGORIES:Music & concerts
ATTACH;FMTTYPE=image/png:https://calgarydt-seeker.paperleaftest.com/wp-content/uploads/2026/04/89aa5231-31cd-4251-973c-24070ef04b04-1400.png
END:VEVENT
BEGIN:VEVENT
DTSTART;TZID=America/Denver:20260508T200000
DTEND;TZID=America/Denver:20260508T235959
DTSTAMP:20260424T085625
CREATED:20260423T222157Z
LAST-MODIFIED:20260423T223556Z
UID:10004305-1778270400-1778284799@calgarydt-seeker.paperleaftest.com
SUMMARY:Triumph: The Rock & Roll Machine Reloaded Tour
DESCRIPTION:Triumph is celebrating their 50th anniversary with the “Rock & Roll Machine Reloaded” tour in 2026\, marking their first major tour in over 30 years. Featuring original members Rik Emmett\, Mike Levine\, and Gil Moore\, the tour runs from April to June 2026 across Canada and the U.S. with special guest April Wine.
URL:https://calgarydt-seeker.paperleaftest.com/event-calendar/xdlbqst1_-triumph-the-rock-and-roll-machine-reloaded-tour/
LOCATION:Scotiabank Saddledome\, 555 Saddledome Rise SE\, Calgary\, Alberta\, T2G 2W1
CATEGORIES:Music & concerts
ATTACH;FMTTYPE=image/jpeg:https://calgarydt-seeker.paperleaftest.com/wp-content/uploads/2026/04/ea1f113f-3be6-44ff-95a9-81e1decaa1a2-1400-1.jpg
END:VEVENT
END:VCALENDAR