BEGIN:VCALENDAR
VERSION:2.0
PRODID:-//Explore Downtown YYC - ECPv6.15.15//NONSGML v1.0//EN
CALSCALE:GREGORIAN
METHOD:PUBLISH
X-ORIGINAL-URL:https://calgarydt-seeker.paperleaftest.com
X-WR-CALDESC:Events for Explore Downtown YYC
REFRESH-INTERVAL;VALUE=DURATION:PT1H
X-Robots-Tag:noindex
X-PUBLISHED-TTL:PT1H
BEGIN:VTIMEZONE
TZID:America/Denver
BEGIN:DAYLIGHT
TZOFFSETFROM:-0700
TZOFFSETTO:-0600
TZNAME:MDT
DTSTART:20250309T090000
END:DAYLIGHT
BEGIN:STANDARD
TZOFFSETFROM:-0600
TZOFFSETTO:-0700
TZNAME:MST
DTSTART:20251102T080000
END:STANDARD
BEGIN:DAYLIGHT
TZOFFSETFROM:-0700
TZOFFSETTO:-0600
TZNAME:MDT
DTSTART:20260308T090000
END:DAYLIGHT
BEGIN:STANDARD
TZOFFSETFROM:-0600
TZOFFSETTO:-0700
TZNAME:MST
DTSTART:20261101T080000
END:STANDARD
BEGIN:DAYLIGHT
TZOFFSETFROM:-0700
TZOFFSETTO:-0600
TZNAME:MDT
DTSTART:20270314T090000
END:DAYLIGHT
BEGIN:STANDARD
TZOFFSETFROM:-0600
TZOFFSETTO:-0700
TZNAME:MST
DTSTART:20271107T080000
END:STANDARD
END:VTIMEZONE
BEGIN:VEVENT
DTSTART;TZID=America/Denver:20260506T200000
DTEND;TZID=America/Denver:20260506T235959
DTSTAMP:20260424T085720
CREATED:20260423T222042Z
LAST-MODIFIED:20260423T223535Z
UID:10004139-1778097600-1778111999@calgarydt-seeker.paperleaftest.com
SUMMARY:Karan Aujla: P-Pop Culture Tour
DESCRIPTION:From electrifying beats to unforgettable performances\, this tour is set to redefine Punjabi pop like never before. 
URL:https://calgarydt-seeker.paperleaftest.com/event-calendar/03ays6emm-karan-aujla-p-pop-culture-tour/
LOCATION:Scotiabank Saddledome\, 555 Saddledome Rise SE\, Calgary\, Alberta\, T2G 2W1
CATEGORIES:Music & concerts
ATTACH;FMTTYPE=image/jpeg:https://calgarydt-seeker.paperleaftest.com/wp-content/uploads/2026/04/cc5fbaa3-e749-4090-8210-fad058e29ba2-1400-1.jpg
END:VEVENT
END:VCALENDAR