BEGIN:VCALENDAR
VERSION:2.0
PRODID:-//Explore Downtown YYC - ECPv6.15.15//NONSGML v1.0//EN
CALSCALE:GREGORIAN
METHOD:PUBLISH
X-WR-CALNAME:Explore Downtown YYC
X-ORIGINAL-URL:https://calgarydt-seeker.paperleaftest.com
X-WR-CALDESC:Events for Explore Downtown YYC
REFRESH-INTERVAL;VALUE=DURATION:PT1H
X-Robots-Tag:noindex
X-PUBLISHED-TTL:PT1H
BEGIN:VTIMEZONE
TZID:America/Edmonton
BEGIN:DAYLIGHT
TZOFFSETFROM:-0700
TZOFFSETTO:-0600
TZNAME:MDT
DTSTART:20250309T090000
END:DAYLIGHT
BEGIN:STANDARD
TZOFFSETFROM:-0600
TZOFFSETTO:-0700
TZNAME:MST
DTSTART:20251102T080000
END:STANDARD
BEGIN:DAYLIGHT
TZOFFSETFROM:-0700
TZOFFSETTO:-0600
TZNAME:MDT
DTSTART:20260308T090000
END:DAYLIGHT
BEGIN:STANDARD
TZOFFSETFROM:-0600
TZOFFSETTO:-0700
TZNAME:MST
DTSTART:20261101T080000
END:STANDARD
BEGIN:DAYLIGHT
TZOFFSETFROM:-0700
TZOFFSETTO:-0600
TZNAME:MDT
DTSTART:20270314T090000
END:DAYLIGHT
BEGIN:STANDARD
TZOFFSETFROM:-0600
TZOFFSETTO:-0700
TZNAME:MST
DTSTART:20271107T080000
END:STANDARD
END:VTIMEZONE
BEGIN:VEVENT
DTSTART;TZID=America/Edmonton:20260505T190000
DTEND;TZID=America/Edmonton:20260505T233000
DTSTAMP:20260424T090217
CREATED:20260423T222040Z
LAST-MODIFIED:20260423T223535Z
UID:10004138-1778007600-1778023800@calgarydt-seeker.paperleaftest.com
SUMMARY:Electric Six w/ "Tragedy: All Metal Tribute to the Bee Gees & Beyond"
DESCRIPTION:Electric Six are coming back to Calgary with their stunning blend of rock\, disco\, glam and new wave!
URL:https://calgarydt-seeker.paperleaftest.com/event-calendar/m1ap2oblf-electric-six-w-tragedy-all-metal-tribute-to-the-bee-gees-and-beyond/
LOCATION:Dickens\, Lower 1000 9 Ave SW\, Calgary\, Ab\, T2P 2Y6
CATEGORIES:Music & concerts
ATTACH;FMTTYPE=image/jpeg:https://calgarydt-seeker.paperleaftest.com/wp-content/uploads/2026/04/c698803b-9e26-4be7-8278-71cec769c032-1400.jpg
END:VEVENT
END:VCALENDAR