BEGIN:VCALENDAR
VERSION:2.0
PRODID:-//Explore Downtown YYC - ECPv6.15.15//NONSGML v1.0//EN
CALSCALE:GREGORIAN
METHOD:PUBLISH
X-WR-CALNAME:Explore Downtown YYC
X-ORIGINAL-URL:https://calgarydt-seeker.paperleaftest.com
X-WR-CALDESC:Events for Explore Downtown YYC
REFRESH-INTERVAL;VALUE=DURATION:PT1H
X-Robots-Tag:noindex
X-PUBLISHED-TTL:PT1H
BEGIN:VTIMEZONE
TZID:America/Edmonton
BEGIN:DAYLIGHT
TZOFFSETFROM:-0700
TZOFFSETTO:-0600
TZNAME:MDT
DTSTART:20250309T090000
END:DAYLIGHT
BEGIN:STANDARD
TZOFFSETFROM:-0600
TZOFFSETTO:-0700
TZNAME:MST
DTSTART:20251102T080000
END:STANDARD
BEGIN:DAYLIGHT
TZOFFSETFROM:-0700
TZOFFSETTO:-0600
TZNAME:MDT
DTSTART:20260308T090000
END:DAYLIGHT
BEGIN:STANDARD
TZOFFSETFROM:-0600
TZOFFSETTO:-0700
TZNAME:MST
DTSTART:20261101T080000
END:STANDARD
BEGIN:DAYLIGHT
TZOFFSETFROM:-0700
TZOFFSETTO:-0600
TZNAME:MDT
DTSTART:20270314T090000
END:DAYLIGHT
BEGIN:STANDARD
TZOFFSETFROM:-0600
TZOFFSETTO:-0700
TZNAME:MST
DTSTART:20271107T080000
END:STANDARD
END:VTIMEZONE
BEGIN:VEVENT
DTSTART;TZID=America/Edmonton:20260503T190000
DTEND;TZID=America/Edmonton:20260503T230000
DTSTAMP:20260424T081748
CREATED:20260423T222037Z
LAST-MODIFIED:20260423T223534Z
UID:10004137-1777834800-1777849200@calgarydt-seeker.paperleaftest.com
SUMMARY:Black Flag (One Night\, Two Sets)
DESCRIPTION:With a fresh lineup and renewed creative energy\, BLACK FLAG is gearing up for an exciting season of live shows including a stop in Calgary!  \n\nTexas-based band BLACK FLAG is officially turning the page and beginning a bold new chapter with the addition of three new members: Max Zanelly (vocals)\, David Rodriguez (bass)\, and Bryce Weston (drums)\, joining founding guitarist Greg Ginn. \n\nWith a fresh lineup and renewed creative energy\, BLACK FLAG is gearing up for an exciting season of live shows and new music production. The group has already begun writing and rehearsing together\, building on their signature sound while embracing new influences brought in by the latest members. \n\nBLACK FLAG’s upcoming performances will showcase the chemistry and talent of the revitalized lineup\, giving fans a first taste of the new era.
URL:https://calgarydt-seeker.paperleaftest.com/event-calendar/wrglwijfp-black-flag-one-night-two-sets/
LOCATION:Dickens\, Lower 1000 9 Ave SW\, Calgary\, Ab\, T2P 2Y6
CATEGORIES:Music & concerts
ATTACH;FMTTYPE=image/jpeg:https://calgarydt-seeker.paperleaftest.com/wp-content/uploads/2026/04/83a06fbf-92ce-4c1a-940b-6b1d5d06f3d7-1400.jpg
END:VEVENT
END:VCALENDAR