BEGIN:VCALENDAR
VERSION:2.0
PRODID:-//Explore Downtown YYC - ECPv6.15.15//NONSGML v1.0//EN
CALSCALE:GREGORIAN
METHOD:PUBLISH
X-ORIGINAL-URL:https://calgarydt-seeker.paperleaftest.com
X-WR-CALDESC:Events for Explore Downtown YYC
REFRESH-INTERVAL;VALUE=DURATION:PT1H
X-Robots-Tag:noindex
X-PUBLISHED-TTL:PT1H
BEGIN:VTIMEZONE
TZID:America/Edmonton
BEGIN:DAYLIGHT
TZOFFSETFROM:-0700
TZOFFSETTO:-0600
TZNAME:MDT
DTSTART:20250309T090000
END:DAYLIGHT
BEGIN:STANDARD
TZOFFSETFROM:-0600
TZOFFSETTO:-0700
TZNAME:MST
DTSTART:20251102T080000
END:STANDARD
BEGIN:DAYLIGHT
TZOFFSETFROM:-0700
TZOFFSETTO:-0600
TZNAME:MDT
DTSTART:20260308T090000
END:DAYLIGHT
BEGIN:STANDARD
TZOFFSETFROM:-0600
TZOFFSETTO:-0700
TZNAME:MST
DTSTART:20261101T080000
END:STANDARD
BEGIN:DAYLIGHT
TZOFFSETFROM:-0700
TZOFFSETTO:-0600
TZNAME:MDT
DTSTART:20270314T090000
END:DAYLIGHT
BEGIN:STANDARD
TZOFFSETFROM:-0600
TZOFFSETTO:-0700
TZNAME:MST
DTSTART:20271107T080000
END:STANDARD
END:VTIMEZONE
BEGIN:VEVENT
DTSTART;TZID=America/Edmonton:20260502T193000
DTEND;TZID=America/Edmonton:20260502T235959
DTSTAMP:20260424T063701
CREATED:20260423T222025Z
LAST-MODIFIED:20260423T223531Z
UID:10004131-1777750200-1777766399@calgarydt-seeker.paperleaftest.com
SUMMARY:Alberta in Harmony: The Planets
DESCRIPTION:The Calgary Phil and the Edmonton Symphony Orchestra come together to perform John Luther Adams’ Become Ocean\, a haunting work that evokes an unstoppable tidal surge\, as well as Holst’s orchestral mood pictures inspired by astrology. Don’t miss it!
URL:https://calgarydt-seeker.paperleaftest.com/event-calendar/zhpuh715h-alberta-in-harmony-the-planets/
LOCATION:Jack Singer Concert Hall\, 225 8 Ave. SE\, Calgary\, Ab
CATEGORIES:Music & concerts
ATTACH;FMTTYPE=image/jpeg:https://calgarydt-seeker.paperleaftest.com/wp-content/uploads/2026/04/5c86edec-14ae-4423-ba82-4b83c413a4a8-1400.jpg
END:VEVENT
END:VCALENDAR