BEGIN:VCALENDAR
VERSION:2.0
PRODID:-//Explore Downtown YYC - ECPv6.15.15//NONSGML v1.0//EN
CALSCALE:GREGORIAN
METHOD:PUBLISH
X-WR-CALNAME:Explore Downtown YYC
X-ORIGINAL-URL:https://calgarydt-seeker.paperleaftest.com
X-WR-CALDESC:Events for Explore Downtown YYC
REFRESH-INTERVAL;VALUE=DURATION:PT1H
X-Robots-Tag:noindex
X-PUBLISHED-TTL:PT1H
BEGIN:VTIMEZONE
TZID:America/Edmonton
BEGIN:DAYLIGHT
TZOFFSETFROM:-0700
TZOFFSETTO:-0600
TZNAME:MDT
DTSTART:20250309T090000
END:DAYLIGHT
BEGIN:STANDARD
TZOFFSETFROM:-0600
TZOFFSETTO:-0700
TZNAME:MST
DTSTART:20251102T080000
END:STANDARD
BEGIN:DAYLIGHT
TZOFFSETFROM:-0700
TZOFFSETTO:-0600
TZNAME:MDT
DTSTART:20260308T090000
END:DAYLIGHT
BEGIN:STANDARD
TZOFFSETFROM:-0600
TZOFFSETTO:-0700
TZNAME:MST
DTSTART:20261101T080000
END:STANDARD
BEGIN:DAYLIGHT
TZOFFSETFROM:-0700
TZOFFSETTO:-0600
TZNAME:MDT
DTSTART:20270314T090000
END:DAYLIGHT
BEGIN:STANDARD
TZOFFSETFROM:-0600
TZOFFSETTO:-0700
TZNAME:MST
DTSTART:20271107T080000
END:STANDARD
END:VTIMEZONE
BEGIN:VEVENT
DTSTART;TZID=America/Edmonton:20260520T183000
DTEND;TZID=America/Edmonton:20260520T203000
DTSTAMP:20260424T101543
CREATED:20260423T222445Z
LAST-MODIFIED:20260423T223621Z
UID:10004383-1779301800-1779309000@calgarydt-seeker.paperleaftest.com
SUMMARY:Classics & Crafts: Clueless (1995)
DESCRIPTION:Fuel your creativity with movies on the big screen at Classics and Crafts! Bring your current craft project and join us for a nostalgic trip down memory lane with beloved classic films in the Burnswest Theatre.  \n \nMeet fellow makers\, enjoy the cinematic vibes and tackle your work-in-progress with us! Whether you’re a die-hard movie fan or are just looking for a place to hunker down and get your creative juices flowing\, this is the perfect event for crafters and cinephiles alike. Craft\, connect\, and catch a classic\, because you deserve a great movie night. \nSupplies are not provided\, so please remember to bring all supplies with you to the screening.  \n\nTickets include a small bag of popcorn\, movie screening\, and after-hours admission to The Confluence Cultural Centre. Additional snacks and drinks will be available for purchase.
URL:https://calgarydt-seeker.paperleaftest.com/event-calendar/th-bza0-k-classics-and-crafts-clueless-1995/
LOCATION:The Confluence Historic Site & Parkland\, 750 9th Ave SE\, Calgary\, Ab\, T2G 5E1
CATEGORIES:Film & movies
ATTACH;FMTTYPE=image/jpeg:https://calgarydt-seeker.paperleaftest.com/wp-content/uploads/2026/04/a854d028-9a21-4ab6-98c0-5caa5c9663a1-1400.jpg
END:VEVENT
END:VCALENDAR