BEGIN:VCALENDAR
VERSION:2.0
PRODID:-//Explore Downtown YYC - ECPv6.15.15//NONSGML v1.0//EN
CALSCALE:GREGORIAN
METHOD:PUBLISH
X-WR-CALNAME:Explore Downtown YYC
X-ORIGINAL-URL:https://calgarydt-seeker.paperleaftest.com
X-WR-CALDESC:Events for Explore Downtown YYC
REFRESH-INTERVAL;VALUE=DURATION:PT1H
X-Robots-Tag:noindex
X-PUBLISHED-TTL:PT1H
BEGIN:VTIMEZONE
TZID:America/Edmonton
BEGIN:DAYLIGHT
TZOFFSETFROM:-0700
TZOFFSETTO:-0600
TZNAME:MDT
DTSTART:20250309T090000
END:DAYLIGHT
BEGIN:STANDARD
TZOFFSETFROM:-0600
TZOFFSETTO:-0700
TZNAME:MST
DTSTART:20251102T080000
END:STANDARD
BEGIN:DAYLIGHT
TZOFFSETFROM:-0700
TZOFFSETTO:-0600
TZNAME:MDT
DTSTART:20260308T090000
END:DAYLIGHT
BEGIN:STANDARD
TZOFFSETFROM:-0600
TZOFFSETTO:-0700
TZNAME:MST
DTSTART:20261101T080000
END:STANDARD
BEGIN:DAYLIGHT
TZOFFSETFROM:-0700
TZOFFSETTO:-0600
TZNAME:MDT
DTSTART:20270314T090000
END:DAYLIGHT
BEGIN:STANDARD
TZOFFSETFROM:-0600
TZOFFSETTO:-0700
TZNAME:MST
DTSTART:20271107T080000
END:STANDARD
END:VTIMEZONE
BEGIN:VTIMEZONE
TZID:America/Denver
BEGIN:DAYLIGHT
TZOFFSETFROM:-0700
TZOFFSETTO:-0600
TZNAME:MDT
DTSTART:20250309T090000
END:DAYLIGHT
BEGIN:STANDARD
TZOFFSETFROM:-0600
TZOFFSETTO:-0700
TZNAME:MST
DTSTART:20251102T080000
END:STANDARD
BEGIN:DAYLIGHT
TZOFFSETFROM:-0700
TZOFFSETTO:-0600
TZNAME:MDT
DTSTART:20260308T090000
END:DAYLIGHT
BEGIN:STANDARD
TZOFFSETFROM:-0600
TZOFFSETTO:-0700
TZNAME:MST
DTSTART:20261101T080000
END:STANDARD
BEGIN:DAYLIGHT
TZOFFSETFROM:-0700
TZOFFSETTO:-0600
TZNAME:MDT
DTSTART:20270314T090000
END:DAYLIGHT
BEGIN:STANDARD
TZOFFSETFROM:-0600
TZOFFSETTO:-0700
TZNAME:MST
DTSTART:20271107T080000
END:STANDARD
END:VTIMEZONE
BEGIN:VEVENT
DTSTART;TZID=America/Edmonton:20260510T100000
DTEND;TZID=America/Edmonton:20260510T133000
DTSTAMP:20260424T110958
CREATED:20260423T222331Z
LAST-MODIFIED:20260423T223610Z
UID:10004354-1778407200-1778419800@calgarydt-seeker.paperleaftest.com
SUMMARY:Mother's Day High Tea at the Zoo
DESCRIPTION:Make it a day that blossoms just for her and celebrate Mother’s Day High Tea at the zoo. Your ticket includes entry to the zoo with a 1.5 hour High Tea seating that allows you to indulge delicious finger sandwiches\, scones\, and mouthwatering snacks\, complemented by a selection of tasty loose leaf teas. Don’t miss out on an unforgettable Mother’s Day in Grazers Restaurant.\n\nMake it an occasion to remember and dress in your Sunday best for High Tea at the zoo!
URL:https://calgarydt-seeker.paperleaftest.com/event-calendar/tllgg3uwg-mothers-day-high-tea-at-the-zoo/
LOCATION:Calgary Zoo\, 1300 Zoo Rd NE\, Calgary\, T2E 7V6
CATEGORIES:Festivals & events
ATTACH;FMTTYPE=image/jpeg:https://calgarydt-seeker.paperleaftest.com/wp-content/uploads/2026/04/5a61abc1-2b8a-489b-b759-997e0c2a2abc-1400-1.jpg
END:VEVENT
BEGIN:VEVENT
DTSTART;TZID=America/Edmonton:20260512T173000
DTEND;TZID=America/Edmonton:20260512T193000
DTSTAMP:20260424T110958
CREATED:20260423T222341Z
LAST-MODIFIED:20260423T223612Z
UID:10004357-1778607000-1778614200@calgarydt-seeker.paperleaftest.com
SUMMARY:Communi-tea Book Exchange Event
DESCRIPTION:Join us for a fun and friendly evening at the Communi-tea Book Exchange! Bring your favourite books to swap\, meet fellow book lovers\, and enjoy some great conversations over tea.  \n\nWhen: May 12\, 2026\, at 5:30 PM \nWhere: 201\, 610 8 Avenue S.E. Calgary\, Alberta\, T2G 0M1 \n\nDon’t miss out on this chill way to refresh your bookshelf and connect with the community!
URL:https://calgarydt-seeker.paperleaftest.com/event-calendar/tvaquvbu2-communi-tea-book-exchange-event/
LOCATION:201\, 610 8 Avenue S.E.\, 610 8 Avenue Southeast\, Calgary\, Alberta\, T2G 5B4
CATEGORIES:Festivals & events
ATTACH;FMTTYPE=image/jpeg:https://calgarydt-seeker.paperleaftest.com/wp-content/uploads/2026/04/a231c454-3498-4589-92f1-0e3ba90a9c8a-1400.jpg
END:VEVENT
BEGIN:VEVENT
DTSTART;TZID=America/Edmonton:20260514T100000
DTEND;TZID=America/Edmonton:20260514T140000
DTSTAMP:20260424T110958
CREATED:20260423T222347Z
LAST-MODIFIED:20260423T223614Z
UID:10004359-1778752800-1778767200@calgarydt-seeker.paperleaftest.com
SUMMARY:Calgary Career Fair and Training Expo Canada - May 14\, 2026
DESCRIPTION:Get in front of hiring managers! Network and apply with Employer Exhibitors. Build meaningful rapports you need to advance your career in the direction that you want. Learn about exciting new career options and obtain valuable information about how to earn the credentials and diplomas you need to get the job you want with our Training Exhibitors. \nInterested in Exhibiting? Visit our Exhibitor Page for more information. \nSee current job postings on Employment News.  \n\nList of Exhibitors: (stay tuned for updates as this list is not complete) \n– Association for Supply Chain Management \n– Bow Valley College \n– Calgary Police Service \n– CAPREIT \n– CBI Health \n– CDI College \n– CLI College of Business\, Health & Technology \n– Firefly Solar\n– JBS Food Canada ULC \n– Open Door Group \n– Parallèle Alberta \n– Reeves College \n– Robertson College \n– Strategic Realty Advisors \n– The Career Foundation
URL:https://calgarydt-seeker.paperleaftest.com/event-calendar/_sqacqytu-calgary-career-fair-and-training-expo-canada-may-14-2026/
LOCATION:BMO Centre at Stampede Park\, 20 Roundup Way SE (Palomino Room)\, Calgary\, Ab\, T2G 2W1
CATEGORIES:Festivals & events
ATTACH;FMTTYPE=image/jpeg:https://calgarydt-seeker.paperleaftest.com/wp-content/uploads/2026/04/238d515b-69d5-499e-b9db-c101ea519862-1400-1.jpg
END:VEVENT
BEGIN:VEVENT
DTSTART;TZID=America/Edmonton:20260515T090000
DTEND;TZID=America/Edmonton:20260515T200000
DTSTAMP:20260424T110958
CREATED:20260423T222351Z
LAST-MODIFIED:20260423T223615Z
UID:10004360-1778835600-1778875200@calgarydt-seeker.paperleaftest.com
SUMMARY:Otafest 2026
DESCRIPTION:Calgary’s ultimate Japanese pop culture festival. Anime\, panels\, shopping\, cosplay\, games\, charity\, celeb guests. Find your community here. \nWe can’t wait to meet you!  \n\nCheck out over 100 hours of programming facilitated by fans\, members of our community\, special guests\, and staff\, our huge Exhibitor Hall and Artist Alley for amazing art and merchandise\, autograph signings\, guest meet & greets\, concerts\, video game tournaments\, Pokémon league\, Maid & Butler Café\, and so much more. \n\nVisit our website at https://otafest.com for more information about Otafest – proudly non-profit and fully volunteer-run for over 25 years!
URL:https://calgarydt-seeker.paperleaftest.com/event-calendar/cl7oqdtqf-otafest-2026/2026-05-15/
LOCATION:Calgary Telus Convention Centre\, 120 9 Avenue Southeast\, Calgary\, Ab\, T2G 0P3
CATEGORIES:Festivals & events
ATTACH;FMTTYPE=image/jpeg:https://calgarydt-seeker.paperleaftest.com/wp-content/uploads/2026/04/8ff08d2b-9ad9-461e-8114-e5cd36e0c531-1400-1.jpg
END:VEVENT
BEGIN:VEVENT
DTSTART;TZID=America/Edmonton:20260516T090000
DTEND;TZID=America/Edmonton:20260516T200000
DTSTAMP:20260424T110958
CREATED:20260423T222351Z
LAST-MODIFIED:20260423T223615Z
UID:10004361-1778922000-1778961600@calgarydt-seeker.paperleaftest.com
SUMMARY:Otafest 2026
DESCRIPTION:Calgary’s ultimate Japanese pop culture festival. Anime\, panels\, shopping\, cosplay\, games\, charity\, celeb guests. Find your community here. \nWe can’t wait to meet you!  \n\nCheck out over 100 hours of programming facilitated by fans\, members of our community\, special guests\, and staff\, our huge Exhibitor Hall and Artist Alley for amazing art and merchandise\, autograph signings\, guest meet & greets\, concerts\, video game tournaments\, Pokémon league\, Maid & Butler Café\, and so much more. \n\nVisit our website at https://otafest.com for more information about Otafest – proudly non-profit and fully volunteer-run for over 25 years!
URL:https://calgarydt-seeker.paperleaftest.com/event-calendar/cl7oqdtqf-otafest-2026/2026-05-16/
LOCATION:Calgary Telus Convention Centre\, 120 9 Avenue Southeast\, Calgary\, Ab\, T2G 0P3
CATEGORIES:Festivals & events
ATTACH;FMTTYPE=image/jpeg:https://calgarydt-seeker.paperleaftest.com/wp-content/uploads/2026/04/8ff08d2b-9ad9-461e-8114-e5cd36e0c531-1400-1.jpg
END:VEVENT
BEGIN:VEVENT
DTSTART;TZID=America/Edmonton:20260517T090000
DTEND;TZID=America/Edmonton:20260517T200000
DTSTAMP:20260424T110958
CREATED:20260423T222351Z
LAST-MODIFIED:20260423T223615Z
UID:10004362-1779008400-1779048000@calgarydt-seeker.paperleaftest.com
SUMMARY:Otafest 2026
DESCRIPTION:Calgary’s ultimate Japanese pop culture festival. Anime\, panels\, shopping\, cosplay\, games\, charity\, celeb guests. Find your community here. \nWe can’t wait to meet you!  \n\nCheck out over 100 hours of programming facilitated by fans\, members of our community\, special guests\, and staff\, our huge Exhibitor Hall and Artist Alley for amazing art and merchandise\, autograph signings\, guest meet & greets\, concerts\, video game tournaments\, Pokémon league\, Maid & Butler Café\, and so much more. \n\nVisit our website at https://otafest.com for more information about Otafest – proudly non-profit and fully volunteer-run for over 25 years!
URL:https://calgarydt-seeker.paperleaftest.com/event-calendar/cl7oqdtqf-otafest-2026/2026-05-17/
LOCATION:Calgary Telus Convention Centre\, 120 9 Avenue Southeast\, Calgary\, Ab\, T2G 0P3
CATEGORIES:Festivals & events
ATTACH;FMTTYPE=image/jpeg:https://calgarydt-seeker.paperleaftest.com/wp-content/uploads/2026/04/8ff08d2b-9ad9-461e-8114-e5cd36e0c531-1400-1.jpg
END:VEVENT
BEGIN:VEVENT
DTSTART;TZID=America/Denver:20260517T100000
DTEND;TZID=America/Denver:20260517T133000
DTSTAMP:20260424T110958
CREATED:20260423T222034Z
LAST-MODIFIED:20260423T223533Z
UID:10004134-1779012000-1779024600@calgarydt-seeker.paperleaftest.com
SUMMARY:High Tea at the Zoo
DESCRIPTION:High Tea at the zoo is a full day of spring fun\, perfect for all ages. Your ticket includes entry to the zoo with a 1.5 hour High Tea seating that allows you to indulge delicious finger sandwiches\, scones\, and mouthwatering snacks\, complemented by a selection of tasty loose leaf teas. Don’t miss out on this elegant affair in Grazers Restaurant on select Sundays from April 12th to May 31st\, 2026. \nMake it an occasion to remember and dress in your Sunday best for High Tea at the zoo!
URL:https://calgarydt-seeker.paperleaftest.com/event-calendar/fzkbrz3y0c-high-tea-at-the-zoo/2026-05-17/
LOCATION:Calgary Zoo\, 1300 Zoo Rd NE\, Calgary\, T2E 7V6
CATEGORIES:Festivals & events
ATTACH;FMTTYPE=image/jpeg:https://calgarydt-seeker.paperleaftest.com/wp-content/uploads/2026/04/26a7bab0-ff6a-42a3-b96a-da724e213244-1400-1.jpg
END:VEVENT
BEGIN:VEVENT
DTSTART;TZID=America/Edmonton:20260517T130000
DTEND;TZID=America/Edmonton:20260517T150000
DTSTAMP:20260424T110958
CREATED:20260423T222441Z
LAST-MODIFIED:20260423T223620Z
UID:10004382-1779022800-1779030000@calgarydt-seeker.paperleaftest.com
SUMMARY:The Confluence Craft Club - May
DESCRIPTION:Looking for a way to kick-start your crafting journey\, need motivation to tackle that work-in-progress or simply want to meet like-minded people? The Confluence Craft Club is the cozy\, community crafting experience you’ve been looking for! Whether you knit\, cross-stitch\, scrapbook\, or do anything in between\, come spend a relaxing afternoon sharing your craft and socializing over a warm beverage.  \n\nAll art forms and skill levels welcome! \nMaterials are not provided\, so please remember to bring your craft and all required supplies along with you! \nTickets include complimentary coffee and tea. \n*Attendees under the age of 16 must be accompanied by an adult for the entirety of the program.
URL:https://calgarydt-seeker.paperleaftest.com/event-calendar/yiigjkyum-the-confluence-craft-club-may/
LOCATION:The Confluence Historic Site & Parkland\, 750 9 Avenue Southeast\, Calgary\, Ab\, T2G 5E1
CATEGORIES:Festivals & events
ATTACH;FMTTYPE=image/jpeg:https://calgarydt-seeker.paperleaftest.com/wp-content/uploads/2026/04/05abd100-ef92-47a3-b8db-70aa250d3259-1400.jpg
END:VEVENT
BEGIN:VEVENT
DTSTART;TZID=America/Denver:20260524T100000
DTEND;TZID=America/Denver:20260524T133000
DTSTAMP:20260424T110958
CREATED:20260423T222034Z
LAST-MODIFIED:20260423T223533Z
UID:10004135-1779616800-1779629400@calgarydt-seeker.paperleaftest.com
SUMMARY:High Tea at the Zoo
DESCRIPTION:High Tea at the zoo is a full day of spring fun\, perfect for all ages. Your ticket includes entry to the zoo with a 1.5 hour High Tea seating that allows you to indulge delicious finger sandwiches\, scones\, and mouthwatering snacks\, complemented by a selection of tasty loose leaf teas. Don’t miss out on this elegant affair in Grazers Restaurant on select Sundays from April 12th to May 31st\, 2026. \nMake it an occasion to remember and dress in your Sunday best for High Tea at the zoo!
URL:https://calgarydt-seeker.paperleaftest.com/event-calendar/fzkbrz3y0c-high-tea-at-the-zoo/2026-05-24/
LOCATION:Calgary Zoo\, 1300 Zoo Rd NE\, Calgary\, T2E 7V6
CATEGORIES:Festivals & events
ATTACH;FMTTYPE=image/jpeg:https://calgarydt-seeker.paperleaftest.com/wp-content/uploads/2026/04/26a7bab0-ff6a-42a3-b96a-da724e213244-1400-1.jpg
END:VEVENT
BEGIN:VEVENT
DTSTART;TZID=America/Denver:20260531T100000
DTEND;TZID=America/Denver:20260531T133000
DTSTAMP:20260424T110958
CREATED:20260423T222034Z
LAST-MODIFIED:20260423T223533Z
UID:10004136-1780221600-1780234200@calgarydt-seeker.paperleaftest.com
SUMMARY:High Tea at the Zoo
DESCRIPTION:High Tea at the zoo is a full day of spring fun\, perfect for all ages. Your ticket includes entry to the zoo with a 1.5 hour High Tea seating that allows you to indulge delicious finger sandwiches\, scones\, and mouthwatering snacks\, complemented by a selection of tasty loose leaf teas. Don’t miss out on this elegant affair in Grazers Restaurant on select Sundays from April 12th to May 31st\, 2026. \nMake it an occasion to remember and dress in your Sunday best for High Tea at the zoo!
URL:https://calgarydt-seeker.paperleaftest.com/event-calendar/fzkbrz3y0c-high-tea-at-the-zoo/2026-05-31/
LOCATION:Calgary Zoo\, 1300 Zoo Rd NE\, Calgary\, T2E 7V6
CATEGORIES:Festivals & events
ATTACH;FMTTYPE=image/jpeg:https://calgarydt-seeker.paperleaftest.com/wp-content/uploads/2026/04/26a7bab0-ff6a-42a3-b96a-da724e213244-1400-1.jpg
END:VEVENT
BEGIN:VEVENT
DTSTART;TZID=America/Edmonton:20260606T200000
DTEND;TZID=America/Edmonton:20260606T235959
DTSTAMP:20260424T110958
CREATED:20260423T222928Z
LAST-MODIFIED:20260423T223402Z
UID:10004453-1780776000-1780790399@calgarydt-seeker.paperleaftest.com
SUMMARY:THE BLACK & WHITE BALL
DESCRIPTION:For over 25 years The Black & White Ball has maintained the reputation as being “Calgary’s Best Party”. A one of a kind evening where guests gather in their Black & White finest and dance the night away to live music by Penguins on Broadway\, enjoy impromptu performances by the DJD Company and guests\, bid on fantastic items in the silent auction and more! \nEarly bird pricing on until April 30\, 2026 \nSINGLE TICKETS $100 (REGULAR $130)\nRESERVED HIGH TOP TABLE FOR EIGHT $1\,200 (REGULAR $1\,300) \nThis event is 18+. \nPhoto Gallery by: Maddy Faunt
URL:https://calgarydt-seeker.paperleaftest.com/event-calendar/lvjzlbhvz-the-black-and-white-ball/
LOCATION:Fairmont Palliser Hotel\, 133 9 Ave SW\, Calgary\, Ab\, AB
CATEGORIES:Festivals & events
ATTACH;FMTTYPE=image/jpeg:https://calgarydt-seeker.paperleaftest.com/wp-content/uploads/2026/04/c2ab32ac-b18a-4d2a-bad4-2ee14fb46034-1400.jpg
END:VEVENT
BEGIN:VEVENT
DTSTART;TZID=America/Edmonton:20260607T130000
DTEND;TZID=America/Edmonton:20260607T150000
DTSTAMP:20260424T110958
CREATED:20260423T222932Z
LAST-MODIFIED:20260423T223402Z
UID:10004454-1780837200-1780844400@calgarydt-seeker.paperleaftest.com
SUMMARY:The Confluence Craft Club - June
DESCRIPTION:Looking for a way to kick-start your crafting journey\, need motivation to tackle that work-in-progress or simply want to meet like-minded people? The Confluence Craft Club is the cozy\, community crafting experience you’ve been looking for! Whether you knit\, cross-stitch\, scrapbook\, or do anything in between\, come spend a relaxing afternoon sharing your craft and socializing over a warm beverage.  \n\nAll artforms and skill levels welcome! \nMaterials are not provided\, so please remember to bring your craft and all required supplies along with you! \nTickets include complimentary coffee and tea. \n*Attendees under the age of 16 must be accompanied by an adult for the entirety of the program.
URL:https://calgarydt-seeker.paperleaftest.com/event-calendar/afykvcwnv-the-confluence-craft-club-june/
LOCATION:The Confluence Historic Site & Parkland\, 750 9 Avenue Southeast\, Calgary\, Ab\, T2G 5E1
CATEGORIES:Festivals & events
ATTACH;FMTTYPE=image/jpeg:https://calgarydt-seeker.paperleaftest.com/wp-content/uploads/2026/04/82ba4ee8-2d06-4c7b-a1a3-b2867aedd2a6-1400-1.jpg
END:VEVENT
BEGIN:VEVENT
DTSTART;TZID=America/Denver:20260612T170000
DTEND;TZID=America/Denver:20260612T220000
DTSTAMP:20260424T110958
CREATED:20260423T222144Z
LAST-MODIFIED:20260423T223544Z
UID:10004298-1781283600-1781301600@calgarydt-seeker.paperleaftest.com
SUMMARY:Inglewood Night Market
DESCRIPTION:Inglewood Night Market is a series of FREE summer night markets taking place in the heart of Inglewood. The markets have over 150 unique and local artisan vendors\, food trucks\, an all-ages licensed area & live music. The markets feature the best arts and culture talent Calgary has to offer. Come to shop and stay for the atmosphere!
URL:https://calgarydt-seeker.paperleaftest.com/event-calendar/9a0hsfqby-inglewood-night-market-occ-8981/
LOCATION:Inglewood Night Market\, Inglewood 10th avenue and 11th Street SE\, Calgary
CATEGORIES:Festivals & events,Shopping & markets
END:VEVENT
BEGIN:VEVENT
DTSTART;VALUE=DATE:20260617
DTEND;VALUE=DATE:20260618
DTSTAMP:20260424T110958
CREATED:20260423T223038Z
LAST-MODIFIED:20260423T223404Z
UID:10004457-1781654400-1781740799@calgarydt-seeker.paperleaftest.com
SUMMARY:Sled Island Music & Arts Festival
DESCRIPTION:The first wave of Sled Island 2026 artists is here!\n\nJoining Sled Island’s previously announced guest curator\, clipping.\, is English chamber folk ensemble Black Country\, New Road\, revered Canadian pop project HOMESHAKE\, LA synth punks Sextile\, fuzzy indie rock outfit feeble little horse\, outlandish egg punk group Snõõper\, lo-fi post-punk duo Sweeping Promises\, NYC-based ambient pioneer Laraaji\, and genre-bending dream pop artist Salami Rose Joe Louis (signed to Flying Lotus’ record label\, Brainfeeder).  
URL:https://calgarydt-seeker.paperleaftest.com/event-calendar/f4z6tag3l-sled-island-music-and-arts-festival/2026-06-17/
LOCATION:Various Venues\, Calgary\, Alberta
CATEGORIES:Festivals & events,Music & concerts
ATTACH;FMTTYPE=image/png:https://calgarydt-seeker.paperleaftest.com/wp-content/uploads/2026/04/23a7d599-565e-4d4f-a0fd-53e0ea43a00d-1400.png
END:VEVENT
BEGIN:VEVENT
DTSTART;VALUE=DATE:20260618
DTEND;VALUE=DATE:20260619
DTSTAMP:20260424T110958
CREATED:20260423T223038Z
LAST-MODIFIED:20260423T223404Z
UID:10004458-1781740800-1781827199@calgarydt-seeker.paperleaftest.com
SUMMARY:Sled Island Music & Arts Festival
DESCRIPTION:The first wave of Sled Island 2026 artists is here!\n\nJoining Sled Island’s previously announced guest curator\, clipping.\, is English chamber folk ensemble Black Country\, New Road\, revered Canadian pop project HOMESHAKE\, LA synth punks Sextile\, fuzzy indie rock outfit feeble little horse\, outlandish egg punk group Snõõper\, lo-fi post-punk duo Sweeping Promises\, NYC-based ambient pioneer Laraaji\, and genre-bending dream pop artist Salami Rose Joe Louis (signed to Flying Lotus’ record label\, Brainfeeder).  
URL:https://calgarydt-seeker.paperleaftest.com/event-calendar/f4z6tag3l-sled-island-music-and-arts-festival/2026-06-18/
LOCATION:Various Venues\, Calgary\, Alberta
CATEGORIES:Festivals & events,Music & concerts
ATTACH;FMTTYPE=image/png:https://calgarydt-seeker.paperleaftest.com/wp-content/uploads/2026/04/23a7d599-565e-4d4f-a0fd-53e0ea43a00d-1400.png
END:VEVENT
BEGIN:VEVENT
DTSTART;VALUE=DATE:20260619
DTEND;VALUE=DATE:20260620
DTSTAMP:20260424T110958
CREATED:20260423T223038Z
LAST-MODIFIED:20260423T223404Z
UID:10004459-1781827200-1781913599@calgarydt-seeker.paperleaftest.com
SUMMARY:Sled Island Music & Arts Festival
DESCRIPTION:The first wave of Sled Island 2026 artists is here!\n\nJoining Sled Island’s previously announced guest curator\, clipping.\, is English chamber folk ensemble Black Country\, New Road\, revered Canadian pop project HOMESHAKE\, LA synth punks Sextile\, fuzzy indie rock outfit feeble little horse\, outlandish egg punk group Snõõper\, lo-fi post-punk duo Sweeping Promises\, NYC-based ambient pioneer Laraaji\, and genre-bending dream pop artist Salami Rose Joe Louis (signed to Flying Lotus’ record label\, Brainfeeder).  
URL:https://calgarydt-seeker.paperleaftest.com/event-calendar/f4z6tag3l-sled-island-music-and-arts-festival/2026-06-19/
LOCATION:Various Venues\, Calgary\, Alberta
CATEGORIES:Festivals & events,Music & concerts
ATTACH;FMTTYPE=image/png:https://calgarydt-seeker.paperleaftest.com/wp-content/uploads/2026/04/23a7d599-565e-4d4f-a0fd-53e0ea43a00d-1400.png
END:VEVENT
BEGIN:VEVENT
DTSTART;VALUE=DATE:20260620
DTEND;VALUE=DATE:20260621
DTSTAMP:20260424T110958
CREATED:20260423T223038Z
LAST-MODIFIED:20260423T223404Z
UID:10004460-1781913600-1781999999@calgarydt-seeker.paperleaftest.com
SUMMARY:Sled Island Music & Arts Festival
DESCRIPTION:The first wave of Sled Island 2026 artists is here!\n\nJoining Sled Island’s previously announced guest curator\, clipping.\, is English chamber folk ensemble Black Country\, New Road\, revered Canadian pop project HOMESHAKE\, LA synth punks Sextile\, fuzzy indie rock outfit feeble little horse\, outlandish egg punk group Snõõper\, lo-fi post-punk duo Sweeping Promises\, NYC-based ambient pioneer Laraaji\, and genre-bending dream pop artist Salami Rose Joe Louis (signed to Flying Lotus’ record label\, Brainfeeder).  
URL:https://calgarydt-seeker.paperleaftest.com/event-calendar/f4z6tag3l-sled-island-music-and-arts-festival/2026-06-20/
LOCATION:Various Venues\, Calgary\, Alberta
CATEGORIES:Festivals & events,Music & concerts
ATTACH;FMTTYPE=image/png:https://calgarydt-seeker.paperleaftest.com/wp-content/uploads/2026/04/23a7d599-565e-4d4f-a0fd-53e0ea43a00d-1400.png
END:VEVENT
BEGIN:VEVENT
DTSTART;VALUE=DATE:20260621
DTEND;VALUE=DATE:20260622
DTSTAMP:20260424T110958
CREATED:20260423T223038Z
LAST-MODIFIED:20260423T223404Z
UID:10004461-1782000000-1782086399@calgarydt-seeker.paperleaftest.com
SUMMARY:Sled Island Music & Arts Festival
DESCRIPTION:The first wave of Sled Island 2026 artists is here!\n\nJoining Sled Island’s previously announced guest curator\, clipping.\, is English chamber folk ensemble Black Country\, New Road\, revered Canadian pop project HOMESHAKE\, LA synth punks Sextile\, fuzzy indie rock outfit feeble little horse\, outlandish egg punk group Snõõper\, lo-fi post-punk duo Sweeping Promises\, NYC-based ambient pioneer Laraaji\, and genre-bending dream pop artist Salami Rose Joe Louis (signed to Flying Lotus’ record label\, Brainfeeder).  
URL:https://calgarydt-seeker.paperleaftest.com/event-calendar/f4z6tag3l-sled-island-music-and-arts-festival/2026-06-21/
LOCATION:Various Venues\, Calgary\, Alberta
CATEGORIES:Festivals & events,Music & concerts
ATTACH;FMTTYPE=image/png:https://calgarydt-seeker.paperleaftest.com/wp-content/uploads/2026/04/23a7d599-565e-4d4f-a0fd-53e0ea43a00d-1400.png
END:VEVENT
BEGIN:VEVENT
DTSTART;TZID=America/Denver:20260710T170000
DTEND;TZID=America/Denver:20260710T220000
DTSTAMP:20260424T110958
CREATED:20260423T222145Z
LAST-MODIFIED:20260423T223545Z
UID:10004299-1783702800-1783720800@calgarydt-seeker.paperleaftest.com
SUMMARY:Inglewood Night Market
DESCRIPTION:Inglewood Night Market is a series of FREE summer night markets taking place in the heart of Inglewood. The markets have over 150 unique and local artisan vendors\, food trucks\, an all-ages licensed area & live music. The markets feature the best arts and culture talent Calgary has to offer. Come to shop and stay for the atmosphere!
URL:https://calgarydt-seeker.paperleaftest.com/event-calendar/9a0hsfqby-inglewood-night-market-occ-8982/
LOCATION:Inglewood Night Market\, Inglewood 10th avenue and 11th Street SE\, Calgary
CATEGORIES:Festivals & events,Shopping & markets
END:VEVENT
BEGIN:VEVENT
DTSTART;TZID=America/Denver:20260814T170000
DTEND;TZID=America/Denver:20260814T220000
DTSTAMP:20260424T110958
CREATED:20260423T222145Z
LAST-MODIFIED:20260423T223546Z
UID:10004300-1786726800-1786744800@calgarydt-seeker.paperleaftest.com
SUMMARY:Inglewood Night Market
DESCRIPTION:Inglewood Night Market is a series of FREE summer night markets taking place in the heart of Inglewood. The markets have over 150 unique and local artisan vendors\, food trucks\, an all-ages licensed area & live music. The markets feature the best arts and culture talent Calgary has to offer. Come to shop and stay for the atmosphere!
URL:https://calgarydt-seeker.paperleaftest.com/event-calendar/9a0hsfqby-inglewood-night-market-occ-8983/
LOCATION:Inglewood Night Market\, Inglewood 10th avenue and 11th Street SE\, Calgary
CATEGORIES:Festivals & events,Shopping & markets
END:VEVENT
BEGIN:VEVENT
DTSTART;TZID=America/Denver:20260904T170000
DTEND;TZID=America/Denver:20260904T220000
DTSTAMP:20260424T110958
CREATED:20260423T222146Z
LAST-MODIFIED:20260423T223547Z
UID:10004301-1788541200-1788559200@calgarydt-seeker.paperleaftest.com
SUMMARY:Inglewood Night Market
DESCRIPTION:Inglewood Night Market is a series of FREE summer night markets taking place in the heart of Inglewood. The markets have over 150 unique and local artisan vendors\, food trucks\, an all-ages licensed area & live music. The markets feature the best arts and culture talent Calgary has to offer. Come to shop and stay for the atmosphere!
URL:https://calgarydt-seeker.paperleaftest.com/event-calendar/9a0hsfqby-inglewood-night-market-occ-8984/
LOCATION:Inglewood Night Market\, Inglewood 10th avenue and 11th Street SE\, Calgary
CATEGORIES:Festivals & events,Shopping & markets
END:VEVENT
BEGIN:VEVENT
DTSTART;TZID=America/Denver:20260911T170000
DTEND;TZID=America/Denver:20260911T220000
DTSTAMP:20260424T110958
CREATED:20260423T222146Z
LAST-MODIFIED:20260423T223549Z
UID:10004302-1789146000-1789164000@calgarydt-seeker.paperleaftest.com
SUMMARY:Inglewood Night Market
DESCRIPTION:Inglewood Night Market is a series of FREE summer night markets taking place in the heart of Inglewood. The markets have over 150 unique and local artisan vendors\, food trucks\, an all-ages licensed area & live music. The markets feature the best arts and culture talent Calgary has to offer. Come to shop and stay for the atmosphere!
URL:https://calgarydt-seeker.paperleaftest.com/event-calendar/9a0hsfqby-inglewood-night-market-occ-8985/
LOCATION:Inglewood Night Market\, Inglewood 10th avenue and 11th Street SE\, Calgary
CATEGORIES:Festivals & events,Shopping & markets
END:VEVENT
END:VCALENDAR