BEGIN:VCALENDAR
VERSION:2.0
PRODID:-//Explore Downtown YYC - ECPv6.15.15//NONSGML v1.0//EN
CALSCALE:GREGORIAN
METHOD:PUBLISH
X-WR-CALNAME:Explore Downtown YYC
X-ORIGINAL-URL:https://calgarydt-seeker.paperleaftest.com
X-WR-CALDESC:Events for Explore Downtown YYC
REFRESH-INTERVAL;VALUE=DURATION:PT1H
X-Robots-Tag:noindex
X-PUBLISHED-TTL:PT1H
BEGIN:VTIMEZONE
TZID:America/Edmonton
BEGIN:DAYLIGHT
TZOFFSETFROM:-0700
TZOFFSETTO:-0600
TZNAME:MDT
DTSTART:20250309T090000
END:DAYLIGHT
BEGIN:STANDARD
TZOFFSETFROM:-0600
TZOFFSETTO:-0700
TZNAME:MST
DTSTART:20251102T080000
END:STANDARD
BEGIN:DAYLIGHT
TZOFFSETFROM:-0700
TZOFFSETTO:-0600
TZNAME:MDT
DTSTART:20260308T090000
END:DAYLIGHT
BEGIN:STANDARD
TZOFFSETFROM:-0600
TZOFFSETTO:-0700
TZNAME:MST
DTSTART:20261101T080000
END:STANDARD
BEGIN:DAYLIGHT
TZOFFSETFROM:-0700
TZOFFSETTO:-0600
TZNAME:MDT
DTSTART:20270314T090000
END:DAYLIGHT
BEGIN:STANDARD
TZOFFSETFROM:-0600
TZOFFSETTO:-0700
TZNAME:MST
DTSTART:20271107T080000
END:STANDARD
END:VTIMEZONE
BEGIN:VEVENT
DTSTART;TZID=America/Edmonton:20260512T173000
DTEND;TZID=America/Edmonton:20260512T193000
DTSTAMP:20260424T173132
CREATED:20260423T222341Z
LAST-MODIFIED:20260423T223612Z
UID:10004357-1778607000-1778614200@calgarydt-seeker.paperleaftest.com
SUMMARY:Communi-tea Book Exchange Event
DESCRIPTION:Join us for a fun and friendly evening at the Communi-tea Book Exchange! Bring your favourite books to swap\, meet fellow book lovers\, and enjoy some great conversations over tea.  \n\nWhen: May 12\, 2026\, at 5:30 PM \nWhere: 201\, 610 8 Avenue S.E. Calgary\, Alberta\, T2G 0M1 \n\nDon’t miss out on this chill way to refresh your bookshelf and connect with the community!
URL:https://calgarydt-seeker.paperleaftest.com/event-calendar/tvaquvbu2-communi-tea-book-exchange-event/
LOCATION:201\, 610 8 Avenue S.E.\, 610 8 Avenue Southeast\, Calgary\, Alberta\, T2G 5B4
CATEGORIES:Festivals & events
ATTACH;FMTTYPE=image/jpeg:https://calgarydt-seeker.paperleaftest.com/wp-content/uploads/2026/04/a231c454-3498-4589-92f1-0e3ba90a9c8a-1400.jpg
END:VEVENT
END:VCALENDAR