BEGIN:VCALENDAR
VERSION:2.0
PRODID:-//Explore Downtown YYC - ECPv6.15.15//NONSGML v1.0//EN
CALSCALE:GREGORIAN
METHOD:PUBLISH
X-ORIGINAL-URL:https://calgarydt-seeker.paperleaftest.com
X-WR-CALDESC:Events for Explore Downtown YYC
REFRESH-INTERVAL;VALUE=DURATION:PT1H
X-Robots-Tag:noindex
X-PUBLISHED-TTL:PT1H
BEGIN:VTIMEZONE
TZID:America/Denver
BEGIN:DAYLIGHT
TZOFFSETFROM:-0700
TZOFFSETTO:-0600
TZNAME:MDT
DTSTART:20250309T090000
END:DAYLIGHT
BEGIN:STANDARD
TZOFFSETFROM:-0600
TZOFFSETTO:-0700
TZNAME:MST
DTSTART:20251102T080000
END:STANDARD
BEGIN:DAYLIGHT
TZOFFSETFROM:-0700
TZOFFSETTO:-0600
TZNAME:MDT
DTSTART:20260308T090000
END:DAYLIGHT
BEGIN:STANDARD
TZOFFSETFROM:-0600
TZOFFSETTO:-0700
TZNAME:MST
DTSTART:20261101T080000
END:STANDARD
BEGIN:DAYLIGHT
TZOFFSETFROM:-0700
TZOFFSETTO:-0600
TZNAME:MDT
DTSTART:20270314T090000
END:DAYLIGHT
BEGIN:STANDARD
TZOFFSETFROM:-0600
TZOFFSETTO:-0700
TZNAME:MST
DTSTART:20271107T080000
END:STANDARD
END:VTIMEZONE
BEGIN:VTIMEZONE
TZID:America/Edmonton
BEGIN:DAYLIGHT
TZOFFSETFROM:-0700
TZOFFSETTO:-0600
TZNAME:MDT
DTSTART:20250309T090000
END:DAYLIGHT
BEGIN:STANDARD
TZOFFSETFROM:-0600
TZOFFSETTO:-0700
TZNAME:MST
DTSTART:20251102T080000
END:STANDARD
BEGIN:DAYLIGHT
TZOFFSETFROM:-0700
TZOFFSETTO:-0600
TZNAME:MDT
DTSTART:20260308T090000
END:DAYLIGHT
BEGIN:STANDARD
TZOFFSETFROM:-0600
TZOFFSETTO:-0700
TZNAME:MST
DTSTART:20261101T080000
END:STANDARD
BEGIN:DAYLIGHT
TZOFFSETFROM:-0700
TZOFFSETTO:-0600
TZNAME:MDT
DTSTART:20270314T090000
END:DAYLIGHT
BEGIN:STANDARD
TZOFFSETFROM:-0600
TZOFFSETTO:-0700
TZNAME:MST
DTSTART:20271107T080000
END:STANDARD
END:VTIMEZONE
BEGIN:VEVENT
DTSTART;TZID=America/Denver:20260508T170000
DTEND;TZID=America/Denver:20260508T220000
DTSTAMP:20260424T110818
CREATED:20260423T222144Z
LAST-MODIFIED:20260423T223543Z
UID:10004297-1778259600-1778277600@calgarydt-seeker.paperleaftest.com
SUMMARY:Inglewood Night Market
DESCRIPTION:Inglewood Night Market is a series of FREE summer night markets taking place in the heart of Inglewood. The markets have over 150 unique and local artisan vendors\, food trucks\, an all-ages licensed area & live music. The markets feature the best arts and culture talent Calgary has to offer. Come to shop and stay for the atmosphere!
URL:https://calgarydt-seeker.paperleaftest.com/event-calendar/9a0hsfqby-inglewood-night-market/
LOCATION:Inglewood Night Market\, Inglewood 10th avenue and 11th Street SE\, Calgary
CATEGORIES:Festivals & events,Shopping & markets
END:VEVENT
BEGIN:VEVENT
DTSTART;TZID=America/Edmonton:20260508T180000
DTEND;TZID=America/Edmonton:20260508T220000
DTSTAMP:20260424T110818
CREATED:20260423T222149Z
LAST-MODIFIED:20260423T223552Z
UID:10004303-1778263200-1778277600@calgarydt-seeker.paperleaftest.com
SUMMARY:AFCC Red Dress Powwow
DESCRIPTION:We are proud to bring the community together for an unforgettable evening of dancing\, drumming\, and honouring our traditions at the Big Four Roadhouse. This important gathering is dedicated to raising vital awareness and honouring our Missing\, Murdered\, and Exploited Indigenous Peoples (MMEIP).  \n\nWe need your support to make this impactful event a reality! We are actively seeking community sponsors to help us bring this gathering to life. This is a powerful opportunity for your organization to stand with us\, support Indigenous culture\, and help amplify this vital cause. \n\nStay tuned\, as more information is to come! 
URL:https://calgarydt-seeker.paperleaftest.com/event-calendar/_ktcnyqsyu-afcc-red-dress-powwow/
LOCATION:The Big Four Roadhouse\, Calgary
CATEGORIES:Festivals & events,Music & concerts
ATTACH;FMTTYPE=image/jpeg:https://calgarydt-seeker.paperleaftest.com/wp-content/uploads/2026/04/60163c97-1a62-45b6-86f0-87e47197c53a-1400-1.jpg
END:VEVENT
END:VCALENDAR