BEGIN:VCALENDAR
VERSION:2.0
PRODID:-//Explore Downtown YYC - ECPv6.15.15//NONSGML v1.0//EN
CALSCALE:GREGORIAN
METHOD:PUBLISH
X-ORIGINAL-URL:https://calgarydt-seeker.paperleaftest.com
X-WR-CALDESC:Events for Explore Downtown YYC
REFRESH-INTERVAL;VALUE=DURATION:PT1H
X-Robots-Tag:noindex
X-PUBLISHED-TTL:PT1H
BEGIN:VTIMEZONE
TZID:UTC
BEGIN:STANDARD
TZOFFSETFROM:+0000
TZOFFSETTO:+0000
TZNAME:UTC
DTSTART:20250101T000000
END:STANDARD
END:VTIMEZONE
BEGIN:VTIMEZONE
TZID:America/Edmonton
BEGIN:DAYLIGHT
TZOFFSETFROM:-0700
TZOFFSETTO:-0600
TZNAME:MDT
DTSTART:20250309T090000
END:DAYLIGHT
BEGIN:STANDARD
TZOFFSETFROM:-0600
TZOFFSETTO:-0700
TZNAME:MST
DTSTART:20251102T080000
END:STANDARD
BEGIN:DAYLIGHT
TZOFFSETFROM:-0700
TZOFFSETTO:-0600
TZNAME:MDT
DTSTART:20260308T090000
END:DAYLIGHT
BEGIN:STANDARD
TZOFFSETFROM:-0600
TZOFFSETTO:-0700
TZNAME:MST
DTSTART:20261101T080000
END:STANDARD
BEGIN:DAYLIGHT
TZOFFSETFROM:-0700
TZOFFSETTO:-0600
TZNAME:MDT
DTSTART:20270314T090000
END:DAYLIGHT
BEGIN:STANDARD
TZOFFSETFROM:-0600
TZOFFSETTO:-0700
TZNAME:MST
DTSTART:20271107T080000
END:STANDARD
END:VTIMEZONE
BEGIN:VTIMEZONE
TZID:America/Denver
BEGIN:DAYLIGHT
TZOFFSETFROM:-0700
TZOFFSETTO:-0600
TZNAME:MDT
DTSTART:20250309T090000
END:DAYLIGHT
BEGIN:STANDARD
TZOFFSETFROM:-0600
TZOFFSETTO:-0700
TZNAME:MST
DTSTART:20251102T080000
END:STANDARD
BEGIN:DAYLIGHT
TZOFFSETFROM:-0700
TZOFFSETTO:-0600
TZNAME:MDT
DTSTART:20260308T090000
END:DAYLIGHT
BEGIN:STANDARD
TZOFFSETFROM:-0600
TZOFFSETTO:-0700
TZNAME:MST
DTSTART:20261101T080000
END:STANDARD
BEGIN:DAYLIGHT
TZOFFSETFROM:-0700
TZOFFSETTO:-0600
TZNAME:MDT
DTSTART:20270314T090000
END:DAYLIGHT
BEGIN:STANDARD
TZOFFSETFROM:-0600
TZOFFSETTO:-0700
TZNAME:MST
DTSTART:20271107T080000
END:STANDARD
END:VTIMEZONE
BEGIN:VEVENT
DTSTART;TZID=UTC:20260501T133000
DTEND;TZID=UTC:20260503T191500
DTSTAMP:20260424T074900
CREATED:20260423T221906Z
LAST-MODIFIED:20260423T223526Z
UID:10004052-1777642200-1777835700@calgarydt-seeker.paperleaftest.com
SUMMARY:Circo Festival
DESCRIPTION:Circo Fest – Calgary’s Premier Aerial Arts & Dance Competition! Join us for Circo Fest\, an electrifying celebration of aerial arts\, circus\, and dance\, happening May 1st to 3rd\, 2026! This dynamic competition brings together talented performers in aerial silks\, lyra\, trapeze\, acro and all dance styles. Whether you’re a competitor or a spectator\, Circo Fest is an unforgettable showcase of strength\, artistry\, and creativity. Come witness breathtaking performances and cheer on incredible athletes from across North America! 🎟 Get your tickets now and experience the magic of movement!
URL:https://calgarydt-seeker.paperleaftest.com/event-calendar/9zk42ftt2-circo-festival/
LOCATION:The GRAND\, 608 1 St SW\, Calgary\, Alberta\, T2P 1M6
CATEGORIES:Festivals & events,Theatre & performing arts
ATTACH;FMTTYPE=image/png:https://calgarydt-seeker.paperleaftest.com/wp-content/uploads/2026/04/9ba1c90d-75b6-44d2-a1b4-c21ecb7a9641-1400-1.png
END:VEVENT
BEGIN:VEVENT
DTSTART;TZID=America/Edmonton:20260502T170000
DTEND;TZID=America/Edmonton:20260503T020000
DTSTAMP:20260424T074900
CREATED:20260423T222018Z
LAST-MODIFIED:20260423T223530Z
UID:10004130-1777741200-1777773600@calgarydt-seeker.paperleaftest.com
SUMMARY:LOOK26 Gala: Off The Path
DESCRIPTION:LOOK26 Gala: Off The Path\, presented by MAWER\, returns on May 2 for an unforgettable night of revelry. Brought to life by the talented minds of local artist duo DaveandJenn\, Off The Path draws on their richly layered practice spanning painting\, sculpture and moving image. Their work creates whimsical worlds filled with delight\, enchantment and untamed life.  \n\nEmbrace all things fantastical when you step into the gallery and find yourself transported to an otherworldly forest. Theatrical environments\, dynamic lightscapes and layered projections reveal secret clearings and shadowy lairs. \n\n The evening follows LOOK’s signature cadence: the HOLT RENFREW VIP Dinner\, a vibrant Cabaret\, and the RYAN GREEN After Party. The night features an exquisite dinner by CONCORDE ENTERTAINMENT GROUP\, art activations\, DJs\, live performances\, and the LOOK26 Art Auction supported by HEATHER EDWARDS. Tickets are available across all three tiers (18+ only)\, and each includes a one-year membership to Contemporary Calgary. \n\nWhether you join us for the full night or slip in after dark\, LOOK is your opportunity to support Contemporary Calgary and celebrate the magic of art and community. \n\n We can’t wait to see you off the path.
URL:https://calgarydt-seeker.paperleaftest.com/event-calendar/1ko3w9h-t-look26-gala-off-the-path/
LOCATION:Contemporary Calgary\, 701 11 Street Southwest\, Calgary\, Ab\, T2P 2C4
CATEGORIES:Festivals & events
ATTACH;FMTTYPE=image/jpeg:https://calgarydt-seeker.paperleaftest.com/wp-content/uploads/2026/04/d37d3fea-5e83-444c-ada1-6d12ad8c3902-1400.jpg
END:VEVENT
BEGIN:VEVENT
DTSTART;TZID=America/Denver:20260503T100000
DTEND;TZID=America/Denver:20260503T133000
DTSTAMP:20260424T074900
CREATED:20260423T222034Z
LAST-MODIFIED:20260423T223533Z
UID:10004133-1777802400-1777815000@calgarydt-seeker.paperleaftest.com
SUMMARY:High Tea at the Zoo
DESCRIPTION:High Tea at the zoo is a full day of spring fun\, perfect for all ages. Your ticket includes entry to the zoo with a 1.5 hour High Tea seating that allows you to indulge delicious finger sandwiches\, scones\, and mouthwatering snacks\, complemented by a selection of tasty loose leaf teas. Don’t miss out on this elegant affair in Grazers Restaurant on select Sundays from April 12th to May 31st\, 2026. \nMake it an occasion to remember and dress in your Sunday best for High Tea at the zoo!
URL:https://calgarydt-seeker.paperleaftest.com/event-calendar/fzkbrz3y0c-high-tea-at-the-zoo/2026-05-03/
LOCATION:Calgary Zoo\, 1300 Zoo Rd NE\, Calgary\, T2E 7V6
CATEGORIES:Festivals & events
ATTACH;FMTTYPE=image/jpeg:https://calgarydt-seeker.paperleaftest.com/wp-content/uploads/2026/04/26a7bab0-ff6a-42a3-b96a-da724e213244-1400-1.jpg
END:VEVENT
END:VCALENDAR